BEGIN:VCALENDAR
VERSION:2.0
PRODID:-//KI deutschland - ECPv6.8.3//NONSGML v1.0//EN
CALSCALE:GREGORIAN
METHOD:PUBLISH
X-ORIGINAL-URL:https://ki-deutschland.de
X-WR-CALDESC:Veranstaltungen für KI deutschland
REFRESH-INTERVAL;VALUE=DURATION:PT1H
X-Robots-Tag:noindex
X-PUBLISHED-TTL:PT1H
BEGIN:VTIMEZONE
TZID:Europe/Berlin
BEGIN:DAYLIGHT
TZOFFSETFROM:+0100
TZOFFSETTO:+0200
TZNAME:CEST
DTSTART:20240331T010000
END:DAYLIGHT
BEGIN:STANDARD
TZOFFSETFROM:+0200
TZOFFSETTO:+0100
TZNAME:CET
DTSTART:20241027T010000
END:STANDARD
END:VTIMEZONE
BEGIN:VEVENT
DTSTART;TZID=Europe/Berlin:20240521T150000
DTEND;TZID=Europe/Berlin:20240521T170000
DTSTAMP:20260424T165620
CREATED:20240503T185834Z
LAST-MODIFIED:20240503T185835Z
UID:10000077-1716303600-1716310800@ki-deutschland.de
SUMMARY:Official Web3 Drone Corridor Launch in Berlin
DESCRIPTION:The Official Web3 Drone Corridor Launch is finally happening in Berlin. Don’t miss out on German best-of-breed technology featuring machine-to-machine economy. \n\n\n\n​How to take part? \n\n\n\n​Make sure to secure your spot for public viewing by signing up to the event on Eventbrite. For more information\, email info@staex.io.  \n\n\n\n​For press inquiries\, please contact Elvina Kulinicenko via email at elvina@staex.io.  \n\n\n\n​Staex partners and customers are invited to reach out to Paksy Plackis-Cheng via email at paksy@staex.io.  \n\n\n\n​Experience secure and reliable information technology firsthand and be a part of this historic occasion. We look forward to welcoming you! \n\n\n\n​Additional information: https://staex.io/web3-drone-corridorSee you there! \n\n\n\n\n\n\n\n\n\n\n\n\n\n\n\n\n\n\n\n\n\nTICKETS\n\n\n\n\n\n\n\n\n\n\n\n\n\n\n\nVERANSTALTER\n\n\n\n\n\n\n\nLOCATION\n\n\n\n\n\n\n\n\n\n\n\nSONSTIGES
URL:https://ki-deutschland.de/event/official-web3-drone-corridor-launch-in-berlin/
LOCATION:Im Marienpark\, Marienpark\, Berlin\, 12107
ATTACH;FMTTYPE=image/png:https://ki-deutschland.de/wp-content/uploads/2024/05/d889d0221e8b-Nexa___Web3_drone_corridor_banner.png
END:VEVENT
BEGIN:VEVENT
DTSTART;TZID=Europe/Berlin:20240521T170000
DTEND;TZID=Europe/Berlin:20240521T180000
DTSTAMP:20260424T165620
CREATED:20240513T185446Z
LAST-MODIFIED:20240513T190239Z
UID:10000092-1716310800-1716314400@ki-deutschland.de
SUMMARY:Civic Coding-Forum: User-Testing – so überprüft ihr die Wirksamkeit eures KI-Projekts
DESCRIPTION:Vortrag und Diskussion \n\n\n\n\n\nIm letzten Civic Coding-Forum unserer Reihe zu den Phasen des Innovationsprozesses gemeinwohlorientierter KI-Projekte geht es um einen elementaren Baustein der agilen Produktentwicklung: das User-Testing. Dabei werden Nutzer*innen in die weitere Entwicklung eines Produkts eingebunden. Expertinnen aus der Praxis stellen unterschiedliche Methoden vor\, mit denen ein Prototyp oder Produkt sich auf seine Funktion und Relevanz testen lässt. Das aus der Praxis gewonnene Feedback wird in die nächste Entwicklungsschleife eingearbeitet und ermöglicht so die weitere Optimierung des entwickelten Produktes. \n\n\n\nWarum User-Testing so wichtig ist\, wie man dabei vorgeht und die richtige Methode für das eigene Projekt findet\, erläutert Service- und UX-Designerin Vanessa Espinosa von der ifok GmbH. PD Dr. Habil. Dimitra Tsovaltzi vom Praxisprojekt MITHOS gibt Einblicke in die von ihrem Team angewendeten Methoden sowie in das von ihr entwickelte User-Testing-System und teilt Tipps in Hinblick auf die erfolgreiche Akquise relevanter Nutzer*innen. \n\n\n\nWährend der interaktiven Online-Veranstaltung stehen beide Expertinnen für Fragen zur Verfügung. \n\n\n\n\n\n\n\n\n\n\n\n\n\n\n\n\n\n\n\n\n\nTICKETS\n\n\n\n\n\n\n\n\n\n\n\n\n\n\n\nVERANSTALTER\n\n\n\n\n\n\n\nLOCATION\n\n\n\n\n\n\n\n\n\n\n\nSONSTIGES
URL:https://ki-deutschland.de/event/civic-coding-forum-user-testing-so-ueberprueft-ihr-die-wirksamkeit-eures-ki-projekts/
LOCATION:Online
ATTACH;FMTTYPE=image/png:https://ki-deutschland.de/wp-content/uploads/2024/05/f160dd77343c-20240422_CC_Shareable_1200x675px_Forum_09_V2.png
END:VEVENT
BEGIN:VEVENT
DTSTART;TZID=Europe/Berlin:20240521T170000
DTEND;TZID=Europe/Berlin:20240521T190000
DTSTAMP:20260424T165620
CREATED:20240411T175405Z
LAST-MODIFIED:20240411T175406Z
UID:10000041-1716310800-1716318000@ki-deutschland.de
SUMMARY:Transformation & Künstliche Intelligenz: Was erwartet uns morgen?
DESCRIPTION:Meet-Up & Networking\, Veranstaltungsreihe „Stadt im Wandel” \n\n\n\n\n\nIn einer Welt\, die sich ständig verändert\, fragen wir uns: Was erwartet uns morgen in Bezug auf Transformation und Künstliche Intelligenz (KI)? Wir wollen nicht nur passiv beobachten\, sondern aktiv erkunden\, welche Auswirkungen diese Entwicklungen auf unser Leben haben können. \n\n\n\nAnhand von anschaulichen Beispielen wollen wir zeigen\, wie KI schon heute in unserem Alltag präsent ist. Stellen wir uns zum Beispiel ein gemütliches Kaffeekränzchen vor\, bei dem wir uns mit ChatGPT unterhalten – ein lebendiges Beispiel dafür\, wie KI unsere Interaktionen beeinflusst. \n\n\n\nHighlight der Veranstaltung ist der Impulsvortrag von Lea Schönberger. Als Informatikerin und freie Wissenschaftskommunikatorin wird sie KI und Transformation als Thema verständlich und unterhaltsam präsentieren. Gemeinsam werden wir herausfinden\, was uns morgen in Sachen Transformation und KI erwartet. Gemeinsam wollen wir die Zukunft gestalten. \n\n\n\n\n\n\n\n\n\n\n\n\n\n\n\n\n\nTICKETS\n\n\n\n\n\n\n\n\n\n\n\n\n\n\n\nVERANSTALTER\n\n\n\n\n\n\n\nLOCATION\n\n\n\n\n\n\n\n\n\n\n\nSONSTIGES
URL:https://ki-deutschland.de/event/transformation-kuenstliche-intelligenz-was-erwartet-uns-morgen/
LOCATION:Projektor\, Westenhellweg 136\, Dortmund\, 44137
ATTACH;FMTTYPE=image/jpeg:https://ki-deutschland.de/wp-content/uploads/2024/04/cfb8f660d30e-DO_siw_05_1_400x284.jpg
END:VEVENT
BEGIN:VEVENT
DTSTART;TZID=Europe/Berlin:20240521T190000
DTEND;TZID=Europe/Berlin:20240521T220000
DTSTAMP:20260424T165620
CREATED:20240503T183907Z
LAST-MODIFIED:20240503T183908Z
UID:10000076-1716318000-1716328800@ki-deutschland.de
SUMMARY:Rooftop Token Launch Party with Drinks and Pizza by Welshare Health
DESCRIPTION:​Let’s enjoy the sunset of Berlin together after the first day of DappCon! \n\n\n\n​Cold ​Drinks and delicious Pizza provided throughout the night. \n\n\n\n​Welshare Health is disrupting the digital health landscape with the power of DeSci. Our web3 app enables you to personalize your contribution to medical research. \n\n\n\n​Own your health data\, contribute to medical research without the need of a middleman\, earn rewards based on the true value of your health data and benefit from personalized health. \n\n\n\n​We have exciting guests lined up from Digital Health\, Medical AI\, Pharma\, DeSci and of course leaders from patient communities which we are co-creating with. \n\n\n\n​This is a first of a kind event where we bring together leaders from web2 and web3 to discuss the innovative future of healthcare. \n\n\n\n​To celebrate this endeavor\, we soon will be launching the Welshare token and opening the public presale. Don’t miss out on the opportunity to get on the exclusive token waitlist! \n\n\n\n\n\n\n\n\n\n\n\n\n\n\n\n\n\n\n\n\n\nTICKETS\n\n\n\n\n\n\n\n\n\n\n\n\n\n\n\nVERANSTALTER\n\n\n\n\n\n\n\nLOCATION\n\n\n\n\n\n\n\n\n\n\n\nSONSTIGES
URL:https://ki-deutschland.de/event/rooftop-token-launch-party-with-drinks-and-pizza-by-welshare-health/
LOCATION:Rooftop Token Launch Party\, Voltairestraße 11\, Berlin\, 10179
ATTACH;FMTTYPE=image/jpeg:https://ki-deutschland.de/wp-content/uploads/2024/05/4e042f5a7b15-Rooftop_Token_Launch_Party.jpg
END:VEVENT
END:VCALENDAR