BEGIN:VCALENDAR
VERSION:2.0
PRODID:-//KI deutschland - ECPv6.8.3//NONSGML v1.0//EN
CALSCALE:GREGORIAN
METHOD:PUBLISH
X-WR-CALNAME:KI deutschland
X-ORIGINAL-URL:https://ki-deutschland.de
X-WR-CALDESC:Veranstaltungen für KI deutschland
REFRESH-INTERVAL;VALUE=DURATION:PT1H
X-Robots-Tag:noindex
X-PUBLISHED-TTL:PT1H
BEGIN:VTIMEZONE
TZID:Europe/Berlin
BEGIN:DAYLIGHT
TZOFFSETFROM:+0100
TZOFFSETTO:+0200
TZNAME:CEST
DTSTART:20260329T010000
END:DAYLIGHT
BEGIN:STANDARD
TZOFFSETFROM:+0200
TZOFFSETTO:+0100
TZNAME:CET
DTSTART:20261025T010000
END:STANDARD
END:VTIMEZONE
BEGIN:VEVENT
DTSTART;TZID=Europe/Berlin:20260507T100000
DTEND;TZID=Europe/Berlin:20260507T113000
DTSTAMP:20260418T233916
CREATED:20260418T100206Z
LAST-MODIFIED:20260418T100209Z
UID:10000157-1778148000-1778153400@ki-deutschland.de
SUMMARY:KI rechtssicher nutzen – Rechtssichere KI Nutzung im Unternehmensalltag – Teil 2
DESCRIPTION:Webinar\, Online\, kostenfrei  \n\n\n\n\n\n\n\nKI rechtssicher nutzen – Rechtssichere KI Nutzung im Unternehmensalltag \n\n\n\nKünstliche Intelligenz eröffnet Unternehmen zahlreiche Chancen: \n\n\n\n Effizienzgewinne\, Automatisierung\, datenbasierte Entscheidungen und neue Geschäftsmodelle. \n\n\n\nMit neuen Vorgaben wie dem EU-AI-Act\, der NIS-2-Richtlinie sowie bestehenden Datenschutz- und Nachhaltigkeitsanforderungen stehen viele Unternehmen vor wichtigen Fragen: Welche Regeln gelten für den Einsatz von KI im Unternehmen? Welche Anforderungen müssen Unternehmen konkret erfüllen? Wie können die wachsenden Nachhaltigkeitsanforderungen nicht nur bewältigt\, sondern strategisch genutzt werden? Wie lässt sich KI rechtskonform und sicher einsetzen\, ohne Innovationen auszubremsen? \n\n\n\n\n\n\n\nGerade für kleine und mittelständische Unternehmen ist es entscheidend\, rechtliche Sicherheit zu gewinnen\, ohne dabei in Bürokratie oder Überforderung zu geraten.  \n\n\n\nUnsere Impuls- und Austauschreihe\, die wir gemeinsam mit den Mittelstand-Digital Zentren Kaiserslautern\, Chemnitz\, WertNetzWerke und der Transferstelle für Cybersicherheit organisieren\, unterstützt Sie dabei\, KI verantwortungsvoll und rechtskonform im Unternehmensalltag einzusetzen.  \n\n\n\nIn kompakten Online-Sessions erhalten Sie: Verständliche Einordnung von EU-AI-Act\, NIS-2 & Co. Konkrete Do’s & Don’ts für den täglichen KI-Einsatz Praxistaugliche Checklisten und Handlungsempfehlungen Austausch mit anderen Unternehmen Inhalte:  \n\n\n\nChatbots und KI rechtssicher nutzen Vertraulichkeit und Geheimnisschutz Datenschutz\, Kennzeichnungspflichten und Transparenz Verantwortlichkeit und Haftung KI-Kompetenz\, KI-Richtlinien und Dokumentation Take-away: Konkrete Regeln und Checklisten für den täglichen KI-Einsatz.  \n\n\n\nReferentinnen: Antonia Stoll \, Mittelstand-Digital Zentrum Chemnitz  \n\n\n\nAntonia Stoll ist wissenschaftliche Mitarbeiterin am Lehrstuhl für Privatrecht und Recht des geistigen Eigentums der Technischen Universität Chemnitz. Im Mittelstand-Digital Zentrum Chemnitz beschäftigt sie sich mit insbesondere datenschutzrechtlichen Fragen rund um IT und Digitalisierung.  \n\n\n\nInes Tacke\, Mittelstand-Digital Zentrum Chemnitz Ines Tacke ist wissenschaftliche Mitarbeiterin am Lehrstuhl für Privatrecht und Recht des geistigen Eigentums der Technischen Universität Chemnitz.  \n\n\n\nIm Mittelstand-Digital Zentrum Chemnitz ist sie als Projektmanagerin für den Schwerpunkt Recht verstehen und als KI-Trainerin tätig. In dem Rahmen beschäftigt sie sich mit Innovations- und Technikrecht sowie rechtlichen Implikationen von KI im KMU. \n\n\n\nFür wen ist die Reihe gedacht? Die Reihe richtet sich an kleine und mittlere Unternehmen\, die sich mit dem Einsatz von Künstlicher Intelligenz beschäftigen oder bereits erste KI-Anwendungen nutzen. Vorkenntnisse sind nicht erforderlich. \n\n\n\nWebinar\, Online \n\n\n\n\n\n\nAnmeldung\n\n\n\n\n\n\n\n\n\nWebseite\n\n\n\n\n\n\n\n\n\n\nMehr Informationen https://www.digitalzentrum-zukunftskultur.de/veranstaltungen
URL:https://ki-deutschland.de/event/ki-rechtssicher-nutzen-rechtssichere-ki-nutzung-im-unternehmensalltag-teil-2/
LOCATION:Online / Virtuell
ATTACH;FMTTYPE=image/png:https://ki-deutschland.de/wp-content/uploads/2026/04/Termin_2_Rechtssicher-1.png
END:VEVENT
END:VCALENDAR