BEGIN:VCALENDAR
VERSION:2.0
PRODID:-//KI deutschland - ECPv6.8.3//NONSGML v1.0//EN
CALSCALE:GREGORIAN
METHOD:PUBLISH
X-WR-CALNAME:KI deutschland
X-ORIGINAL-URL:https://ki-deutschland.de
X-WR-CALDESC:Veranstaltungen für KI deutschland
REFRESH-INTERVAL;VALUE=DURATION:PT1H
X-Robots-Tag:noindex
X-PUBLISHED-TTL:PT1H
BEGIN:VTIMEZONE
TZID:Europe/Berlin
BEGIN:DAYLIGHT
TZOFFSETFROM:+0100
TZOFFSETTO:+0200
TZNAME:CEST
DTSTART:20240331T010000
END:DAYLIGHT
BEGIN:STANDARD
TZOFFSETFROM:+0200
TZOFFSETTO:+0100
TZNAME:CET
DTSTART:20241027T010000
END:STANDARD
END:VTIMEZONE
BEGIN:VEVENT
DTSTART;TZID=Europe/Berlin:20240513T120000
DTEND;TZID=Europe/Berlin:20240513T140000
DTSTAMP:20260420T171133
CREATED:20240504T091647Z
LAST-MODIFIED:20240506T083133Z
UID:10000079-1715601600-1715608800@ki-deutschland.de
SUMMARY:KI & Quanten - Brandenburger KI Landpartie 2024
DESCRIPTION:Tour & Besichtigungen \n\n\n\n\n\nDie KI Landpartie vom 13. Mai bis 17. Mai zeigt Brandenburgs innovatives Potenzial mit seinen vielfältigen Regionen sowie Unternehmen und Forschungseinrichtungen\, die KI in den verschiedensten Anwendungsbereichen und Technologiefeldern nutzen und voranbringen. Wir sind jeden Tag an einem anderen spannenden Ort zu Gast\, am Montag\, 13. Mai am DESY in Zeuthen. \n\n\n\nWas haben Künstliche Intelligenz\, Quantentechnologie und Solarbote gemeinsam? Während künstliche Intelligenz und Quantentechnologie momentan noch eher Energiefresser sind\, kann die gerade lokal eingeführte\, autonom fahrende Fähre bereits nachhaltig mit regenerativer Energie unterwegs sein. Nichtsdestotrotz ist autonomes Fahren ohne KI nicht umsetzbar. KI ist wiederum in Zukunft nicht ohne neue Hardware für energie-effiziente Trainings mit der vielfachen Datenmenge von heute denkbar. Quantentechnologie kann ein Weg dorthin darstellen. Das DESY gibt uns hier einen Einblick. \n\n\n\nWir werden die Veranstaltung hybrid durchführen\, um möglichst vielen Interessierten die Teilnahme zu ermöglichen. Bitte melden Sie sich unter den unten stehenden Veranstaltungslinks an\, die Plätze für die Präsenztermine sind begrenzt. \n\n\n\n \n\n\n\n\n\n\n\n\n\n\n\n\n\n\n\n\n\nTICKETS\n\n\n\n\n\n\n\n\n\n\n\n\n\n\n\nVERANSTALTER\n\n\n\n\n\n\n\nLOCATION\n\n\n\n\n\n\n\n\n\n\n\nSONSTIGES
URL:https://ki-deutschland.de/event/ki-quanten-brandenburger-ki-landpartie-2024/
LOCATION:Deutsches Elektronen-Synchrotron (DESY)\, Platanenallee 6\, Zeuthen\, 15738
ATTACH;FMTTYPE=image/png:https://ki-deutschland.de/wp-content/uploads/2024/05/16146af3a13b-KI_Landpartie_handbuchkonform.png
END:VEVENT
BEGIN:VEVENT
DTSTART;TZID=Europe/Berlin:20240514T120000
DTEND;TZID=Europe/Berlin:20240514T140000
DTSTAMP:20260420T171133
CREATED:20240504T092229Z
LAST-MODIFIED:20240506T083128Z
UID:10000080-1715688000-1715695200@ki-deutschland.de
SUMMARY:KI & Fachkräfte - Brandenburger KI Landpartie 2024
DESCRIPTION:Tour & Besichtigungen \n\n\n\n\n\nDie KI Landpartie vom 13. Mai bis 17. Mai zeigt Brandenburgs innovatives Potenzial mit seinen vielfältigen Regionen sowie Unternehmen und Forschungseinrichtungen\, die KI in den verschiedensten Anwendungsbereichen und Technologiefeldern nutzen und voranbringen. Wir sind jeden Tag an einem anderen spannenden Ort zu Gast\, am Dienstag\, 14. Mai am OSZ in Fürstenwalde. \n\n\n\nWird Künstliche Intelligenz Arbeitsplätze vernichten oder kann KI den Fachkräftemangel von heute auffangen? Während KI-gestützte Hardware die Gesundheit der Arbeitnehmer bei schwerer körperlicher Arbeit schützen kann\, gibt es auch immer mehr Bereiche in denen die KI den kreativen Schöpfungsprozess ersetzt. Wie und wo KI helfen kann\, die Herausforderungen nachwachsender Fachkräfte zu meistern sehen wir in der Praxis beim OSZ Fürstenwalde. \n\n\n\nWir werden die Veranstaltung hybrid durchführen\, um möglichst vielen Interessierten die Teilnahme zu ermöglichen. Bitte melden Sie sich unter den unten stehenden Veranstaltungslinks an\, die Plätze für die Präsenztermine sind begrenzt. \n\n\n\n \n\n\n\n\n\n\n\n\n\n\n\n\n\n\n\n\n\nTICKETS\n\n\n\n\n\n\n\n\n\n\n\n\n\n\n\nVERANSTALTER\n\n\n\n\n\n\n\nLOCATION\n\n\n\n\n\n\n\n\n\n\n\nSONSTIGES
URL:https://ki-deutschland.de/event/ki-fachkraefte-brandenburger-ki-landpartie-2024/
LOCATION:Europaschule Oberstufenzentrum Oder-Spree Standort: Fürstenwalde – Palmnicken\, Palmnicken 1\, Fürstenwalde\, 15517
ATTACH;FMTTYPE=image/png:https://ki-deutschland.de/wp-content/uploads/2024/05/16146af3a13b-KI_Landpartie_handbuchkonform.png
END:VEVENT
BEGIN:VEVENT
DTSTART;TZID=Europe/Berlin:20240515T120000
DTEND;TZID=Europe/Berlin:20240515T140000
DTSTAMP:20260420T171133
CREATED:20240504T092542Z
LAST-MODIFIED:20240506T083108Z
UID:10000081-1715774400-1715781600@ki-deutschland.de
SUMMARY:KI & New Work - Brandenburger KI Landpartie 2024
DESCRIPTION:Tour & Besichtigungen \n\n\n\n\n\nDie KI Landpartie vom 13. Mai bis 17. Mai zeigt Brandenburgs innovatives Potenzial mit seinen vielfältigen Regionen sowie Unternehmen und Forschungseinrichtungen\, die KI in den verschiedensten Anwendungsbereichen und Technologiefeldern nutzen und voranbringen. Wir sind jeden Tag an einem anderen spannenden Ort zu Gast\, am Mittwoch\, 15. Mai sind wir im CocoNat in Klein Glien mit dem Thema New Work und KI. \n\n\n\nWas kann Künstliche Intelligenz für mich tun? Mobiles Arbeiten ist heutzutage in fast allen Bereichen möglich. Die Digitalisierung von Prozessen und breite Verfügbarkeiten von Internet- und Cloudstrukturen ermöglicht kollaboratives Arbeiten über räumliche Distanzen hinweg. Brandenburg mit seinen Zukunftsorten zeigt hier\, wie ländliches Leben wieder attraktiv werden kann. Im Coconat sehen wir erste Schritte mit KI im digitalen Arbeiten für Jedermann und -frau. \n\n\n\nWir werden die Veranstaltung hybrid durchführen\, um möglichst vielen Interessierten die Teilnahme zu ermöglichen. Bitte melden Sie sich unter den unten stehenden Veranstaltungslinks an\, die Plätze für die Präsenztermine sind begrenzt. \n\n\n\n \n\n\n\n\n\n\n\n\n\n\n\n\n\n\n\n\n\nTICKETS\n\n\n\n\n\n\n\n\n\n\n\n\n\n\n\nVERANSTALTER\n\n\n\n\n\n\n\nLOCATION\n\n\n\n\n\n\n\n\n\n\n\nSONSTIGES
URL:https://ki-deutschland.de/event/ki-new-work-brandenburger-ki-landpartie-2024/
LOCATION:Coconat\, Klein Glien 25\, Bad Belzig\, 14806
ATTACH;FMTTYPE=image/png:https://ki-deutschland.de/wp-content/uploads/2024/05/16146af3a13b-KI_Landpartie_handbuchkonform.png
END:VEVENT
BEGIN:VEVENT
DTSTART;TZID=Europe/Berlin:20240516T120000
DTEND;TZID=Europe/Berlin:20240516T140000
DTSTAMP:20260420T171133
CREATED:20240504T092905Z
LAST-MODIFIED:20240506T083051Z
UID:10000082-1715860800-1715868000@ki-deutschland.de
SUMMARY:KI & Predictive Maintenance - Brandenburger KI Landpartie 2024
DESCRIPTION:Tour & Besichtigungen \n\n\n\n\n\nDie KI Landpartie vom 13. Mai bis 17. Mai zeigt Brandenburgs innovatives Potenzial mit seinen vielfältigen Regionen sowie Unternehmen und Forschungseinrichtungen\, die KI in den verschiedensten Anwendungsbereichen und Technologiefeldern nutzen und voranbringen. Wir sind jeden Tag an einem anderen spannenden Ort zu Gast\, am Donnerstag\, 16. Mai bei PCK in Schwedt mit dem Thema predictive maintenance. \n\n\n\nKünstliche Intelligenz erkennt erste Zeichen von Unregelmäßigkeiten noch bevor das menschliche Auge diese erfassen\, das menschliche Ort diese erlauschen kann. Zugegeben\, es gibt Experten\, denen kann KI noch nicht das Wasser reichen. Aber diese Experten sind rar und deren implizites Expertenwissen lässt sich zum Teil nur schwer auf neue und fehlende Mitarbeiter übertragen. Bei PCK sehen wir\, wo KI bei und Digitalisierung von Industrieprozessen und der Wartung von Pumpanlagen (prädiktive Wartung) helfen kann. \n\n\n\nWir werden die Veranstaltung hybrid durchführen\, um möglichst vielen Interessierten die Teilnahme zu ermöglichen. Bitte melden Sie sich unter den unten stehenden Veranstaltungslinks an\, die Plätze für die Präsenztermine sind begrenzt. \n\n\n\n \n\n\n\n\n\n\n\n\n\n\n\n\n\n\n\n\n\nTICKETS\n\n\n\n\n\n\n\n\n\n\n\n\n\n\n\nVERANSTALTER\n\n\n\n\n\n\n\nLOCATION\n\n\n\n\n\n\n\n\n\n\n\nSONSTIGES
URL:https://ki-deutschland.de/event/ki-predictive-maintenance-brandenburger-ki-landpartie-2024/
LOCATION:PCK Raffinerie GmbH\, Passower Ch 111\, Schwedt\, 16303
ATTACH;FMTTYPE=image/png:https://ki-deutschland.de/wp-content/uploads/2024/05/16146af3a13b-KI_Landpartie_handbuchkonform.png
END:VEVENT
BEGIN:VEVENT
DTSTART;TZID=Europe/Berlin:20240517T120000
DTEND;TZID=Europe/Berlin:20240517T140000
DTSTAMP:20260420T171133
CREATED:20240504T093140Z
LAST-MODIFIED:20240506T083025Z
UID:10000083-1715947200-1715954400@ki-deutschland.de
SUMMARY:Best of the week - Brandenburger KI Landpartie 2024
DESCRIPTION:Tour & Besichtigungen \n\n\n\n\n\nDie KI Landpartie vom 13. Mai bis 17. Mai zeigt Brandenburgs innovatives Potenzial mit seinen vielfältigen Regionen sowie Unternehmen und Forschungseinrichtungen\, die KI in den verschiedensten Anwendungsbereichen und Technologiefeldern nutzen und voranbringen. Wir sind jeden Tag an einem anderen spannenden Ort zu Gast\, am Freitag\, 17. Mai im Oranienwerk in Oranienburg mit Best of and Worst Case KI. \n\n\n\nWo hat KI die Arbeit im Unternehmen vereinfacht? An welchen Stellen hat KI Geschäftsbereiche zusammen brechen lassen und wo haben Unternehmen mit KI gerade erst angefangen\, sich neue Geschäftsfelder aufzubauen? Viel ist im Medienbereich passiert. Wir haben spannende Beispiele für Euch und senden aus dem Oranienwerk. Genaueres folgt in Kürze. Seid gespannt. \n\n\n\nWir werden die Veranstaltung hybrid durchführen\, um möglichst vielen Interessierten die Teilnahme zu ermöglichen. Bitte melden Sie sich unter den unten stehenden Veranstaltungslinks an\, die Plätze für die Präsenztermine sind begrenzt. \n\n\n\n \n\n\n\n\n\n\n\n\n\n\n\n\n\n\n\n\n\nTICKETS\n\n\n\n\n\n\n\n\n\n\n\n\n\n\n\nVERANSTALTER\n\n\n\n\n\n\n\nLOCATION\n\n\n\n\n\n\n\n\n\n\n\nSONSTIGES
URL:https://ki-deutschland.de/event/ki-quanten-brandenburger-ki-landpartie-2024-2/
LOCATION:Oranienwerk\, Kremmener Str. 43\, Oranienburg\, 16515
ATTACH;FMTTYPE=image/png:https://ki-deutschland.de/wp-content/uploads/2024/05/16146af3a13b-KI_Landpartie_handbuchkonform.png
END:VEVENT
END:VCALENDAR