BEGIN:VCALENDAR
VERSION:2.0
PRODID:-//KI deutschland - ECPv6.8.3//NONSGML v1.0//EN
CALSCALE:GREGORIAN
METHOD:PUBLISH
X-WR-CALNAME:KI deutschland
X-ORIGINAL-URL:https://ki-deutschland.de
X-WR-CALDESC:Veranstaltungen für KI deutschland
REFRESH-INTERVAL;VALUE=DURATION:PT1H
X-Robots-Tag:noindex
X-PUBLISHED-TTL:PT1H
BEGIN:VTIMEZONE
TZID:Europe/Berlin
BEGIN:DAYLIGHT
TZOFFSETFROM:+0100
TZOFFSETTO:+0200
TZNAME:CEST
DTSTART:20240331T010000
END:DAYLIGHT
BEGIN:STANDARD
TZOFFSETFROM:+0200
TZOFFSETTO:+0100
TZNAME:CET
DTSTART:20241027T010000
END:STANDARD
END:VTIMEZONE
BEGIN:VEVENT
DTSTART;TZID=Europe/Berlin:20240517T093000
DTEND;TZID=Europe/Berlin:20240517T120000
DTSTAMP:20260424T222802
CREATED:20240512T194510Z
LAST-MODIFIED:20240512T195424Z
UID:10000088-1715938200-1715947200@ki-deutschland.de
SUMMARY:Enterprise Software - Disrupted von KI und Low-Code?
DESCRIPTION:Frühstück \n\n\n\n\n\nZwei wichtige Themen sind zu beleuchten: KI und Low Code bzw. No Code – Was bedeutet das für die Welt der Enterprise bzw. Line of Business (LOB)- Applications? \n\n\n\nKI ist innovativ\, jung und… wie kriegt man diese vielversprechende Technologie integriert? \n\n\n\nUnd welche Rolle spielen Low-Code-Plattformen dabei? \n\n\n\nOder ist alles nur ein neuer Hype und für den sensiblen Bereich der LOB-Anwendungen kann sich eigentlich doch nicht so viel ändern? \n\n\n\nImpulse und Diskussion mitHans-Joachim Beltz (Carglass) über die Produktentwicklung mit Voice-AI\, Dr. Tobias Anton (Conciso) zum Thema Low-Code als Integrationshilfe für KI-Anwendungen\, Marko Ilic (Conciso) zu Möglichkeiten\, die Low-Code für die Anwendungsentwicklung gibt\,Sven-Torben Janus (Conciso) und Dr. Georg Pietrek (Conciso) über das Disruptions-Potential von KI für die Welt der Unternehmenssoftware \n\n\n\n\n\n\n\n\n\n\n\n\n\n\n\n\n\n\n\nTICKETS\n\n\n\n\n\n\n\n\n\n\n\n\n\n\n\nVERANSTALTER\n\n\n\n\n\n\n\nLOCATION\n\n\n\n\n\n\n\n\n\n\n\nSONSTIGES
URL:https://ki-deutschland.de/event/enterprise-software-disrupted-von-ki-und-low-code/
LOCATION:Garcon de Café\, Invalidenstraße 65\, Berlin\, 10557
END:VEVENT
END:VCALENDAR