BEGIN:VCALENDAR
VERSION:2.0
PRODID:-//KI deutschland - ECPv6.8.3//NONSGML v1.0//EN
CALSCALE:GREGORIAN
METHOD:PUBLISH
X-ORIGINAL-URL:https://ki-deutschland.de
X-WR-CALDESC:Veranstaltungen für KI deutschland
REFRESH-INTERVAL;VALUE=DURATION:PT1H
X-Robots-Tag:noindex
X-PUBLISHED-TTL:PT1H
BEGIN:VTIMEZONE
TZID:Europe/Berlin
BEGIN:DAYLIGHT
TZOFFSETFROM:+0100
TZOFFSETTO:+0200
TZNAME:CEST
DTSTART:20250330T010000
END:DAYLIGHT
BEGIN:STANDARD
TZOFFSETFROM:+0200
TZOFFSETTO:+0100
TZNAME:CET
DTSTART:20251026T010000
END:STANDARD
END:VTIMEZONE
BEGIN:VEVENT
DTSTART;TZID=Europe/Berlin:20250513T180000
DTEND;TZID=Europe/Berlin:20250513T203000
DTSTAMP:20260423T072358
CREATED:20250418T163840Z
LAST-MODIFIED:20250418T164408Z
UID:10000126-1747159200-1747168200@ki-deutschland.de
SUMMARY:appliedAI Developers Meetup @ Cologne
DESCRIPTION:Join our first meetup in Cologne to connect\, inspire\, and accelerate AI development through engaging techie-to-techie discussions and valuable discussions over pizza.  \n\n\n\n\n\n\n\nThe appliedAI Developers unites AI builders from universities\, businesses\, investors\, nonprofits\, and startups to drive trustworthy AI innovation through monthly meetups\, networking\, and knowledge sharing  \n\n\n\nJakob Vanhoefer\, Host & Moderator\, Head of AI\, Convidera gmbH \n\n\n\nFull agenda to come: Manuel Huth @ Uni Bonn Philip Buchbender @ Convidera Lars Pfleider @ Taxpeer \n\n\n\n\n\n\nWebseite\n\n\n\n\n\n\n\nTickets
URL:https://ki-deutschland.de/event/appliedai-developers-meetup-cologne/
LOCATION:Convidera GmbH\, Stolberger Straße 90d\, Köln\, 50933
ATTACH;FMTTYPE=image/png:https://ki-deutschland.de/wp-content/uploads/2025/04/0af2b17c1c2d-13052025_Linkedin_1200x628px.png
END:VEVENT
END:VCALENDAR