BEGIN:VCALENDAR
VERSION:2.0
PRODID:-//KI deutschland - ECPv6.8.3//NONSGML v1.0//EN
CALSCALE:GREGORIAN
METHOD:PUBLISH
X-ORIGINAL-URL:https://ki-deutschland.de
X-WR-CALDESC:Veranstaltungen für KI deutschland
REFRESH-INTERVAL;VALUE=DURATION:PT1H
X-Robots-Tag:noindex
X-PUBLISHED-TTL:PT1H
BEGIN:VTIMEZONE
TZID:Europe/Berlin
BEGIN:DAYLIGHT
TZOFFSETFROM:+0100
TZOFFSETTO:+0200
TZNAME:CEST
DTSTART:20240331T010000
END:DAYLIGHT
BEGIN:STANDARD
TZOFFSETFROM:+0200
TZOFFSETTO:+0100
TZNAME:CET
DTSTART:20241027T010000
END:STANDARD
END:VTIMEZONE
BEGIN:VEVENT
DTSTART;TZID=Europe/Berlin:20240513T120000
DTEND;TZID=Europe/Berlin:20240513T193000
DTSTAMP:20260420T015557
CREATED:20240424T162457Z
LAST-MODIFIED:20240425T145048Z
UID:10000062-1715601600-1715628600@ki-deutschland.de
SUMMARY:Mit KI Resilienz stärken und Krisen bewältigen - Demo Day "krisenFest". Krisenbewältigung mittels KI.
DESCRIPTION:Live-Demos und Networking Event \n\n\n\n\n\nErfahren – Ausprobieren – ins Gespräch kommen! Live-Demos und Networking. \n\n\n\nDie Projekte CoyPu\, DAKI-FWS\, KISS\, PAIRS\, ResKriVer und SPELL des Technologieprogramms KI-Innovationswettbewerb\, gefördert durch das Bundesministerium für Wirtschaft und Klimaschutz (BMWK)\, stellen interaktive Demonstratoren für die Prävention und Bewältigung bedrohender Krisensituationen in Wirtschaft und Gesellschaft vor. In knapp 20 interaktiven Demonstratoren wird gezeigt\, wie der Schutz der Bevölkerung und die Resilienz der Wirtschaft gestärkt werden können. \n\n\n\nEs wird zwei Demo Blöcke geben: \n\n\n\nBLOCK 1: Demos mit Fokus auf Bevölkerungs- und KatastrophenschutzBLOCK 2: Demos mit Fokus auf Lieferkettenmanagement \n\n\n\nIm ersten Block präsentieren Experten innovative Lösungen für den Bevölkerungs- und Katastrophenschutz. Dazu gehören eine KI-gestützte Notrufassistenz für Leitstellen\, die digitale Lagedarstellung im Bevölkerungsschutz\, sowie Epidemiefrüherkennung mithilfe von KI. Ein weiterer Block fokussiert sich auf das Lieferkettenmanagement und präsentiert Lösungen wie ein KI-Dashboard zur Identifizierung von Lieferketten-Störungen\, intelligentes Matching für 3D-Druck und das Supply Chain Radar zum präventiven Lieferkettenmanagement.“ \n\n\n\n\n\n\n\n\n\n\n\n\n\n\n\n\n\nTICKETS\n\n\n\n\n\n\n\n\n\n\n\nVERANSTALTER\n\n\n\n\n\n\n\n\n\nLOCATION\n\n\n\n\n\n\n\n\n\n\n\nSONSTIGES
URL:https://ki-deutschland.de/event/mit-ki-resilienz-staerken-und-krisen-bewaeltigen-demo-day-krisenfest-krisenbewaeltigung-mittels-ki/
LOCATION:Forum Digitale Technologien\, Salzufer 15/16\, Berlin\, 10587
ATTACH;FMTTYPE=image/jpeg:https://ki-deutschland.de/wp-content/uploads/2024/04/e58a209c07b6-20240409_KF_Eventim_Banner_2160x1080px.jpg
END:VEVENT
BEGIN:VEVENT
DTSTART;TZID=Europe/Berlin:20240521T150000
DTEND;TZID=Europe/Berlin:20240521T170000
DTSTAMP:20260420T015557
CREATED:20240503T185834Z
LAST-MODIFIED:20240503T185835Z
UID:10000077-1716303600-1716310800@ki-deutschland.de
SUMMARY:Official Web3 Drone Corridor Launch in Berlin
DESCRIPTION:The Official Web3 Drone Corridor Launch is finally happening in Berlin. Don’t miss out on German best-of-breed technology featuring machine-to-machine economy. \n\n\n\n​How to take part? \n\n\n\n​Make sure to secure your spot for public viewing by signing up to the event on Eventbrite. For more information\, email info@staex.io.  \n\n\n\n​For press inquiries\, please contact Elvina Kulinicenko via email at elvina@staex.io.  \n\n\n\n​Staex partners and customers are invited to reach out to Paksy Plackis-Cheng via email at paksy@staex.io.  \n\n\n\n​Experience secure and reliable information technology firsthand and be a part of this historic occasion. We look forward to welcoming you! \n\n\n\n​Additional information: https://staex.io/web3-drone-corridorSee you there! \n\n\n\n\n\n\n\n\n\n\n\n\n\n\n\n\n\n\n\n\n\nTICKETS\n\n\n\n\n\n\n\n\n\n\n\n\n\n\n\nVERANSTALTER\n\n\n\n\n\n\n\nLOCATION\n\n\n\n\n\n\n\n\n\n\n\nSONSTIGES
URL:https://ki-deutschland.de/event/official-web3-drone-corridor-launch-in-berlin/
LOCATION:Im Marienpark\, Marienpark\, Berlin\, 12107
ATTACH;FMTTYPE=image/png:https://ki-deutschland.de/wp-content/uploads/2024/05/d889d0221e8b-Nexa___Web3_drone_corridor_banner.png
END:VEVENT
END:VCALENDAR