BEGIN:VCALENDAR
VERSION:2.0
PRODID:-//KI deutschland - ECPv6.8.3//NONSGML v1.0//EN
CALSCALE:GREGORIAN
METHOD:PUBLISH
X-ORIGINAL-URL:https://ki-deutschland.de
X-WR-CALDESC:Veranstaltungen für KI deutschland
REFRESH-INTERVAL;VALUE=DURATION:PT1H
X-Robots-Tag:noindex
X-PUBLISHED-TTL:PT1H
BEGIN:VTIMEZONE
TZID:Europe/Berlin
BEGIN:DAYLIGHT
TZOFFSETFROM:+0100
TZOFFSETTO:+0200
TZNAME:CEST
DTSTART:20250330T010000
END:DAYLIGHT
BEGIN:STANDARD
TZOFFSETFROM:+0200
TZOFFSETTO:+0100
TZNAME:CET
DTSTART:20251026T010000
END:STANDARD
END:VTIMEZONE
BEGIN:VEVENT
DTSTART;TZID=Europe/Berlin:20250514T103000
DTEND;TZID=Europe/Berlin:20250514T183000
DTSTAMP:20260419T223113
CREATED:20250313T144533Z
LAST-MODIFIED:20250327T134919Z
UID:10000110-1747218600-1747247400@ki-deutschland.de
SUMMARY:Symposium "AI in Public Health Research“
DESCRIPTION:Wissenschaftliches Symposium am 14. + 15. Mai 2025  \n\n\n\n\n\n\n\nKünstliche Intelligenz (KI) verändert die Public-Health-Forschung grundlegend\, indem sie neue Ansätze zur Analyse komplexer Gesundheitsdaten und zur Entwicklung zielgerichteter Strategien ermöglicht. Von der datenbasierten Analyse von Krankheitsmustern bis zur Entwicklung präziser Vorhersagemodelle:  \n\n\n\nKI bietet der Forschung im Bereich Public Health neue Werkzeuge\, um Risiken besser zu verstehen\, soziale und geografische Unterschiede zu adressieren und evidenzbasierte Handlungsempfehlungen abzuleiten.  \n\n\n\nDas Symposium „KI in der Public-Health-Forschung“ bietet eine Plattform für den Austausch zwischen KI-Forschung\, Public-Health-Praxis und Politik mit dem Ziel\, die Möglichkeiten und Grenzen der Anwendung von KI in der Public-Health-Forschung neu zu definieren.  \n\n\n\nSie sind eingeladen\, sich an der Diskussion zu beteiligen und die Zukunft der KI-gestützte Public-Health-Forschung mitzugestalten. Dieses Symposium wird vom Bundesministerium für Gesundheit (BMG) unter der Förderungsnummer 2523DAT400 (Projekt: AI-DAVIS-PANDEMICS) finanziell unterstützt. \n\n\n\n\n\n\nTickets\n\n\n\n\n\n\n\nWebseite
URL:https://ki-deutschland.de/event/symposium-ai-in-public-health-research/
LOCATION:Conference Center\, German Federal Ministries\, Mauerstraße 27\, Berlin\, 10117 Berlin\, Germany
ATTACH;FMTTYPE=image/png:https://ki-deutschland.de/wp-content/uploads/2025/03/7c33bf123c7f-250310_Banner_Symposium_RiseofAI.png
END:VEVENT
BEGIN:VEVENT
DTSTART;TZID=Europe/Berlin:20250528T080000
DTEND;TZID=Europe/Berlin:20250528T170000
DTSTAMP:20260419T223113
CREATED:20250302T182527Z
LAST-MODIFIED:20250313T142652Z
UID:10000109-1748419200-1748451600@ki-deutschland.de
SUMMARY:KI-READY 2025 - Die KI-Anwenderkonferenz
DESCRIPTION:Die KI-READY Konferenz 2025 am 27. + 28. Mai zeigt\, wie Künstliche Intelligenz Unternehmen transformiert – von der Automatisierung von Prozessen über Softwareentwicklung bis hin zu Marketing und Nachhaltigkeit. \n\n\n\n\n\n\n\n400 Teilnehmer | 30+ KI-Aussteller | 20+ Expertenvorträge zur Anwenderpraxis | Workshops | Vorabendprogramm | KI-READY Award 2025 und vieles mehr. Führende Köpfe und Praxisbeispiele vermitteln\, wie Sie KI sinnvoll in Ihre Geschäftsprozesse integrieren und als Effizienzboost nutzen können. Erleben Sie KI live und erhalten Sie wertvolle Leitfäden für die Zukunft Ihres Unternehmens. Die Beiträge sind von namhaften Experten und Unternehmen\, innovativen Mittelständlern und Startups. \n\n\n\n\n\n\nTickets\n\n\n\n\n\n\n\nWebseite
URL:https://ki-deutschland.de/event/ki-ready-2025-die-ki-anwenderkonferenz/
LOCATION:K3N – Stadthalle und Kreuzkirche\, Heiligkreuzstr. 4\, Nürtingen (Stuttgart)\, 72622
ATTACH;FMTTYPE=image/jpeg:https://ki-deutschland.de/wp-content/uploads/2025/03/c56eec0b02dd-LOGO_KI_READY_KONFERENZ_2025_gross_schwarz.jpg
END:VEVENT
END:VCALENDAR