BEGIN:VCALENDAR
VERSION:2.0
PRODID:-//KI deutschland - ECPv6.8.3//NONSGML v1.0//EN
CALSCALE:GREGORIAN
METHOD:PUBLISH
X-WR-CALNAME:KI deutschland
X-ORIGINAL-URL:https://ki-deutschland.de
X-WR-CALDESC:Veranstaltungen für KI deutschland
REFRESH-INTERVAL;VALUE=DURATION:PT1H
X-Robots-Tag:noindex
X-PUBLISHED-TTL:PT1H
BEGIN:VTIMEZONE
TZID:Europe/Berlin
BEGIN:DAYLIGHT
TZOFFSETFROM:+0100
TZOFFSETTO:+0200
TZNAME:CEST
DTSTART:20260329T010000
END:DAYLIGHT
BEGIN:STANDARD
TZOFFSETFROM:+0200
TZOFFSETTO:+0100
TZNAME:CET
DTSTART:20261025T010000
END:STANDARD
END:VTIMEZONE
BEGIN:VEVENT
DTSTART;TZID=Europe/Berlin:20260505T100000
DTEND;TZID=Europe/Berlin:20260505T163000
DTSTAMP:20260423T121517
CREATED:20260421T160922Z
LAST-MODIFIED:20260421T161935Z
UID:10000168-1777975200-1777998600@ki-deutschland.de
SUMMARY:KI-Camp 2026
DESCRIPTION:Mix aus Konferenz & Barcamp \n\n\n\n\n\n\n\n\n\nUnser KI-Camp 2026 ist eine Plattform für kompetenten Wissensaustausch für Fachkräfte aus Banken und Versicherungen sowie Branchendienstleistern.  \n\n\n\nEs ist eine innovative Mischung aus Konferenz und Barcamp\, wobei der Barcamp-Anteil überwiegt. Neben inspirierenden Vorträgen & Workshops von renommierten KI-Experten bestimmen die Teilnehmenden im offenen Barcamp-Format selbst\, welches Thema sie bewegt.  \n\n\n\nOb Datensouveränität\, Prozessintelligenz\, GenAI\, Umsetzung des EU AI-Acts\, KI-gestützte Risiko- & Kreditmodelle\, Cybersecurity & KI\, MLOps oder Testing & KI-Modellbewertung – die Teilnehmenden sind mittendrin\, wenn die Finanzbranche ihre Zukunft gestaltet.  \n\n\n\nIm Mittelpunkt steht entsprechend des Veranstaltungsmottos “KI trifft Expertise – innovative Lösungen für die Finanzwelt von morgen” die Symbiose aus KI und menschlichem Know-how. \n\n\n\n\n\n\n\n\n\n\nTickets\n\n\n\n\n\n\n\n\n\nWebseite\n\n\n\n\n\n\n\n\n\n\nMehr Informationen: https://www.voeb-service.de/veranstaltungen/ki-camp-2026
URL:https://ki-deutschland.de/event/ki-camp-2026/
LOCATION:VÖB-Service GmbH Tagungszentrum\, Ludwig-Erhard-Platz 1–3\, Bonn\, 53179
ATTACH;FMTTYPE=image/jpeg:https://ki-deutschland.de/wp-content/uploads/2026/04/20250516_Event_LN_KI_Camp2026-1.jpg
END:VEVENT
BEGIN:VEVENT
DTSTART;TZID=Europe/Berlin:20260505T180000
DTEND;TZID=Europe/Berlin:20260506T200000
DTSTAMP:20260423T121517
CREATED:20260408T102329Z
LAST-MODIFIED:20260408T102330Z
UID:10000154-1778004000-1778097600@ki-deutschland.de
SUMMARY:Rise of AI Conference 2026
DESCRIPTION:Rise of AI Conference 2026: 10 Years of Building the Ecosystem \n\n\n\n\n\n\n\nThe Cornerstone of the German AI Landscape \n\n\n\nSince 2014\, the Rise of AI Conference has brought together AI pioneers\, decision-makers\, and thought leaders to shape the future of AI in society\, politics\, and the economy. Hosted personally by Veronika & Fabian Westerheide\, this event has become the definitive cornerstone of the German AI ecosystem. \n\n\n\nTo mark our 10th anniversary in 2026\, we are hosting a highly curated in-person experience in Berlin\, strictly limited to 300 selected participants. This is not a mass expo; it is a strategic briefing designed for those who build\, invest in\, and regulate the next decade of AI. \n\n\n\n\n\n\n\n \n\n\n\nJoin us at the Rise of AI Conference to connect with our exclusive network of top-tier AI influencers and innovators. \n\n\n\n\n\n\nTickets\n\n\n\n\n\n\n\nWebseite\n\n\n\n\n\n\n\n\n\n\n\n\n\n\n\n\n\n\n\n\n\n\n\n\nWhy You Should Attend Rise of AI\n\n\n\nRise of AI is built by the ecosystem\, for the ecosystem. By joining our 10th-anniversary circle\, you will:\n\n\n\n\nAccess Elite Networking: Engage with a highly curated group where decision-makers (CEOs\, CIOs\, CTOs) are the majority.\n\n\n\nGain Strategic Intelligence: Understand the 2026 state of AI—from Agentic AI and AI Factories to European Sovereignty and Trusted Infrastructure.\n\n\n\nDeepen Technical Knowledge: Explore real-world deployment and the intersection of AI with sectors like Longevity and Medicine.\n\n\n\nExperience 40+ Interactive Formats: From visionary keynotes on the Meta Stage to intimate\, focused deep-dives at our AI Topic Tables.\n\n\n\n\nYour Network at Rise of AI\n\n\n\nYour Network: Where Leaders & Builders Converge\n\n\n\nWe pride ourselves on a unique professional tapestry that ensures every conversation is high-value: \n\n\n\n\nThe Decision-Makers: The majority of our attendees hold top-tier positions (CEO\, Managing Partner)\, ensuring leadership-level exchange.\n\n\n\nInnovation Drivers (21%): Nearly a quarter of our guests are Heads of AI or Transformation Managers\, driving the practical implementation of technology.\n\n\n\nResearch Excellence (11%): We champion knowledge exchange at the highest level\, with 11% of our guests being esteemed professors and senior researchers.\n\n\n\nThe Builders (10%): Data Scientists\, Engineers\, and AI Architects enrich our discussions with deep technical expertise.\n\n\n\nThe Next Generation: Through our AI Ecosystem Pass\, we connect promising young talent with future employers and strategic project partners.\n\n\n\n\n\n\n\n\nJoin the Conversation\n\n\n\nCelebrate a decade of European AI excellence and help define the masterplan for the next ten years. Whether you join us in person in Berlin or via our global live stream\, you will be in the room where the most important conversations happen. \n\n\n\nRegistration & Tickets: https://riseof.ai/conference-2026/ \n\n\n\n\n\nby Thomas Tiefseetaucher\n\n\n\n\n\nby Thomas Tiefseetaucher
URL:https://ki-deutschland.de/event/rise-of-ai-conference-2026/
LOCATION:Humboldt Carré Konferenzzentrum\, Behrenstraße 42\, Berlin\, Berlin\, 10117\, Germany
ATTACH;FMTTYPE=image/png:https://ki-deutschland.de/wp-content/uploads/2026/04/Rise-of-AI-AI-LinkedIN-Logo-Jubiläum-2026-10.png
END:VEVENT
BEGIN:VEVENT
DTSTART;TZID=Europe/Berlin:20260519T100000
DTEND;TZID=Europe/Berlin:20260519T140000
DTSTAMP:20260423T121517
CREATED:20260418T103236Z
LAST-MODIFIED:20260421T161141Z
UID:10000158-1779184800-1779199200@ki-deutschland.de
SUMMARY:Sinnvoller KI-Einsatz im Unternehmen
DESCRIPTION:Workshop\, kostenfreie Teilnahme \n\n\n\n\n\n\n\nSinnvoller KI-Einsatz im Unternehmen \n\n\n\nSie möchten KI in Ihrem Unternehmen einsetzen\, wissen aber nicht\, wo Sie anfangen sollen? \n\n\n\nIn dieser Veranstaltung zeigen wir Ihnen an Praxisbeispielen\, auch aus dem Personalbereich\, wie Sie aus bestehenden Herausforderungen und ersten Ideen einen konkreten KI-Anwendungsfall entwickeln.  \n\n\n\nDabei beleuchten wir neben der Prozess-Ebene v.a. die Rolle personalbezogener Themen: Wie gelingt es Führungskräften\, einen langfristig erfolgreichen Transformationsprozess hin zu einem sinnvollen KI-Einsatz zu steuern? Wie können sie dabei die Mitarbeitenden einbeziehen? Welche unternehmenskulturellen Themen spielen dabei eine Rolle?  \n\n\n\n\n\n\n\nGemeinsam mit Expert*innen erarbeiten Sie: wie Sie sinnvolle KI-Anwendungsfelder erkennen\, wie Sie mit strukturierten Templates von der Idee zur Umsetzung gelangen\, und wie Sie den Einsatz von KI verantwortungsvoll gestalten – mit Blick auf Leadership\, Unternehmenskultur und Werte.  \n\n\n\nWas Sie erwartet: Impulse zu KI-Potenzialen im Personalbereich Praktische Übungen mit dem Template „In sieben Schritten von der Idee zum KI-Anwendungsfall“ Anwendung der Methode „Ethik-Kompass für Führungskräfte“ Austausch und Vernetzung mit anderen Unternehmen \n\n\n\nWorkshop \n\n\n\n\n\n\nAnmeldung\n\n\n\n\n\n\n\n\n\nWebseite\n\n\n\n\n\n\n\n\n\n\nMehr Informationen https://www.digitalzentrum-zukunftskultur.de/veranstaltungen
URL:https://ki-deutschland.de/event/sinnvoller-ki-einsatz-im-unternehmen/
LOCATION:Hotel Röbler Thor\, Am Dosseteich 1\, Wittstock\, 16909
ATTACH;FMTTYPE=image/png:https://ki-deutschland.de/wp-content/uploads/2026/04/Visual_WFBB_Website-1.png
END:VEVENT
BEGIN:VEVENT
DTSTART;TZID=Europe/Berlin:20260523T200000
DTEND;TZID=Europe/Berlin:20260523T213000
DTSTAMP:20260423T121517
CREATED:20260421T162733Z
LAST-MODIFIED:20260421T163304Z
UID:10000169-1779566400-1779571800@ki-deutschland.de
SUMMARY:DIE LETZTE GESCHICHTE DER MENSCHHEIT
DESCRIPTION:Theaterprogramm \n\n\n\n\n\n\n\nDIE LETZTE GESCHICHTE DER MENSCHHEIT – Das Endzeit-Theaterstück \n\n\n\nDas Endzeit-Theaterstück zeigt auf eine humorvolle Weise die Entwicklung einer jungen künstlichen Intelligenz – von ihrem ersten Basiscode bis zu der persönlichen Suche nach dem Sinn des Lebens. (ein Theaterstück von Sören Hornung\, gespielt durch das 12 Stufen Theater). \n\n\n\n\n\n\n\n\n\n\nTickets\n\n\n\n\n\n\n\n\n\nWebseite\n\n\n\n\n\n\n\n\n\n\nMehr Informationen: https://www.12-stufen-theater.de/theaterst%C3%BCcke/die-letzte-geschichte-der-menschheit/
URL:https://ki-deutschland.de/event/die-letzte-geschichte-der-menschheitki/
LOCATION:12 Stufen Theater Aschaffenburg\, Riesengasse 10\, Aschaffenburg\, 63739
END:VEVENT
END:VCALENDAR