BEGIN:VCALENDAR
VERSION:2.0
PRODID:-//KI deutschland - ECPv6.8.3//NONSGML v1.0//EN
CALSCALE:GREGORIAN
METHOD:PUBLISH
X-ORIGINAL-URL:https://ki-deutschland.de
X-WR-CALDESC:Veranstaltungen für KI deutschland
REFRESH-INTERVAL;VALUE=DURATION:PT1H
X-Robots-Tag:noindex
X-PUBLISHED-TTL:PT1H
BEGIN:VTIMEZONE
TZID:Europe/Berlin
BEGIN:DAYLIGHT
TZOFFSETFROM:+0100
TZOFFSETTO:+0200
TZNAME:CEST
DTSTART:20240331T010000
END:DAYLIGHT
BEGIN:STANDARD
TZOFFSETFROM:+0200
TZOFFSETTO:+0100
TZNAME:CET
DTSTART:20241027T010000
END:STANDARD
END:VTIMEZONE
BEGIN:VEVENT
DTSTART;TZID=Europe/Berlin:20240503T100000
DTEND;TZID=Europe/Berlin:20240503T110000
DTSTAMP:20260423T031046
CREATED:20240325T091456Z
LAST-MODIFIED:20240329T131314Z
UID:10000032-1714730400-1714734000@ki-deutschland.de
SUMMARY:Best Practice - ENTECCOgroup's Chatbot: Vom Konzept zur Umsetzung
DESCRIPTION:Best Practice: Wie es die ENTECCOgroup geschafft hat\, einen internen\, systemübergreifenden Chatbot in kürzester Zeit aufzubauenDie ENTECCOgroup ist eine inhabergeführte\, unabhängige Unternehmensgruppe\, die Standorte in fünf Ländern im Bereich der Luftreinhaltung betreibt. Hauptsitz ist Lahr im Schwarzwald. Seit ihrer Gründung im Jahr 2010 hat sich die Firma mit ihren innovativen Technologien einen Namen gemacht. Unter der Buy-and-Build-Strategie vereinte die ENTECCOgroup bekannte Marken wie GARANT-Filter\, LHS-Clean Air Systems und Turbofilter unter einem Dach. Daraus ergab sich folgende Herausforderung: Die früher eigenständigen Firmen wie LHS oder Turbofilter blicken auf eine jahrzehntelange Historie zurück. Durch die Integration in die ENTECCOgroup stand man vor der Herausforderung\, das Wissen der einzelnen Firmen allen in der Gruppe zugänglich zu machen. Mehrere Terra-Byte an Daten verteilt auf verschiedenen Systemen der einzelnen Firmen und Systemen\, Excel-Listen\, Kataloge oder Zeichnungen\, teilweise auch doppelt. Gerade neuen Mitarbeitenden war oft nicht klar\, wo die aktuellsten Informationen liegen.In diesem Webinar erklären Frederik Mussler\, IT-Leiter der ENTECCOgroup und Bastian Maiworm\, Mitgründer von amberSearch von Ihren Erfahrungen aus der gemeinsamen Zusammenarbeit.Lernen Sie\, was es benötigt\, um einen internen Chatbot einzuführen und worauf Sie achten sollten.Weitere Informationen zur Zusammenarbeit können Sie diesem Link entnehmen:https://ambersearch.de/de/enteccogroup/ \n\n\n\n\n\n\n\n\n\n\n\n\n\n\n\n\n\nTICKETS\n\n\n\n\n\n\nTicket buchen\n\n\n\n\n\n\n\n\n\n\nVERANSTALTER\n\n\n\n\n\n\n\nLOCATION\n\n\n\n\n\n\n\n\n\n\n\nSONSTIGES
URL:https://ki-deutschland.de/event/best-practice-enteccogroups-chatbot-vom-konzept-zur-umsetzung/
LOCATION:Online
ATTACH;FMTTYPE=image/png:https://ki-deutschland.de/wp-content/uploads/2024/03/49b9ae374305-Entecco_Webinar.png
END:VEVENT
BEGIN:VEVENT
DTSTART;TZID=Europe/Berlin:20240508T100000
DTEND;TZID=Europe/Berlin:20240508T110000
DTSTAMP:20260423T031046
CREATED:20240416T170227Z
LAST-MODIFIED:20240416T171223Z
UID:10000053-1715162400-1715166000@ki-deutschland.de
SUMMARY:Start-up Nation Israel meets NRW – How can AI revolutionize agriculture?
DESCRIPTION:Webinar \n\n\n\nStart-up Nation Israel meets NRW – How can AI revolutionize agriculture? \n\n\n\nExpert Panel \n\n\n\n\n\n\n\n\n\n\n\n\n\n\n\n\n\nTICKETS\n\n\n\n\n\n\n\n\n\n\n\n\n\n\n\nVERANSTALTER\n\n\n\n\n\n\n\nLOCATION\n\n\n\n\n\n\n\n\n\n\n\nSONSTIGES
URL:https://ki-deutschland.de/event/start-up-nation-israel-meets-nrw-how-can-ai-revolutionize-agriculture/
LOCATION:Online
ATTACH;FMTTYPE=image/png:https://ki-deutschland.de/wp-content/uploads/2024/04/74b132a3d55b-NRW_israel_und_agtech__1_.png
END:VEVENT
BEGIN:VEVENT
DTSTART;TZID=Europe/Berlin:20240514T100000
DTEND;TZID=Europe/Berlin:20240514T110000
DTSTAMP:20260423T031046
CREATED:20240301T083825Z
LAST-MODIFIED:20240411T180803Z
UID:10000018-1715680800-1715684400@ki-deutschland.de
SUMMARY:Webinar Automatisiertes maschinelles Lernen für schnelle Proofs of Concept
DESCRIPTION:Automatisiertes maschinelles Lernen (AutoML) beschreibt den Prozess der Automatisierung von zeitaufwändigen\, iterativen Aufgaben bei der Entwicklung einer Machine Learning Pipeline. AutoML beschleunigt und vereinfacht nicht nur den Machine Learning Workflow\, sondern ermöglicht auch Nutzer:innen ohne spezifische ML-Kenntnisse einen Zugang zum maschinellen Lernen. In diesem Webinar wird anhand konkreter Beispiele gezeigt\, wie Interessierte mithilfe von AutoML Proofs of Concept schnell und ohne explizites Expertenwissen durchführen können.​ \n\n\n\n\n\n\n\n\n\n\n\n\n\n\n\n\n\n\n\nTICKETS\n\n\n\n\n\n\n\n\n\n\n\n\n\n\n\n\n\n\n\nVERANSTALTER\n\n\n\n\n\n\n\nLOCATION\n\n\n\n\n\n\n\n\n\n\n\nSONSTIGES
URL:https://ki-deutschland.de/event/webinar-automatisiertes-maschinelles-lernen-fuer-schnelle-proofs-of-concept/
LOCATION:Virtuell
ATTACH;FMTTYPE=image/png:https://ki-deutschland.de/wp-content/uploads/2024/03/Rise-of-AI-Conference-2024-Learn-understand-adapt-AI-V1_Verlauf-1.png
END:VEVENT
BEGIN:VEVENT
DTSTART;TZID=Europe/Berlin:20240516T140000
DTEND;TZID=Europe/Berlin:20240516T150000
DTSTAMP:20260423T031046
CREATED:20240420T125521Z
LAST-MODIFIED:20240420T125819Z
UID:10000056-1715868000-1715871600@ki-deutschland.de
SUMMARY:Intelligente Fertigung für KMUs: Praktische Schritte zum Erfolg
DESCRIPTION:In diesem Webinar geben wir Einblicke in die Arbeiten des Forschungsprojektes Datenfabrik.NRW – KI in der Produktion von morgen. Unabhängig von der aktuellen Ausgangssituation Ihres Unternehmens\, geben wir Antworten auf die Frage\, warum Sie sich mit der Digitalisierung Ihrer Produktionsprozesse beschäftigen sollten\, um damit die Grundlage für eine intelligente Fertigung zu legen und geben praktische Beispiele dafür\, wo man anfangen kann. Sie haben bereits eine umfassende Datengrundlage\, wissen aber nicht\, wie Sie daraus Mehrwerte generieren können? Wunderbar: Entlang der im Projekt erarbeiteten Best-Practices zeigen wir praktische Schritte zum Erfolg auf der Reise zu einer intelligenten\, datengetriebenen Fertigung. \n\n\n\n\n\n\n\n\n\n\n\n\n\n\n\n\n\n\n\n\n\nTICKETS\n\n\n\n\n\n\n\n\n\n\n\nVERANSTALTER\n\n\n\n\n\n\n\nLOCATION\n\n\n\n\n\n\n\n\n\n\n\nSONSTIGES
URL:https://ki-deutschland.de/event/intelligente-fertigung-fuer-kmus-praktische-schritte-zum-erfolg/
LOCATION:Online / Virtuell
ATTACH;FMTTYPE=image/png:https://ki-deutschland.de/wp-content/uploads/2024/04/0401d6f1301c-Vorlage_Veranstaltungen_des_Monats_11_.png
END:VEVENT
BEGIN:VEVENT
DTSTART;TZID=Europe/Berlin:20240516T150000
DTEND;TZID=Europe/Berlin:20240516T160000
DTSTAMP:20260423T031046
CREATED:20240420T130127Z
LAST-MODIFIED:20240420T130128Z
UID:10000057-1715871600-1715875200@ki-deutschland.de
SUMMARY:Es ist Zeit für KI-Kompetenzen! - Digitale Info-Session
DESCRIPTION:Künstliche Intelligenz ist kein ferner Zukunftstraum mehr. KI-Systeme optimieren Prozesse\, unterstützen Entscheidungen und übernehmen zunehmend alltägliche Aufgaben. \n\n\n\nDoch was bedeutet diese Entwicklung für Mitarbeitende und Führungskrafte? \n\n\n\nIn unserer digitalen Info-Session “Es ist Zeit für KI-Kompetenzen!” im Rahmen des KI-Monats mAI erfahren Sie\, was sich überhaupt hinter KI-Kompetenz verbirgt und wie Sie die Entwicklung von KI-Kompetenzen in Ihrem Unternehmen fördern können.  \n\n\n\nDarüber hinaus erwartet Sie ein spannender Use Case unseres Gastes Alec Sproten\, Head of Data\, Analytics and AI bei der Fischer Group. Alec Sproten ermöglicht Ihnen Einblicke in die erfolgreiche Implementierung von KI-Lösungen. Dabei wird die Bedeutung der richtigen Kombination von Kompetenzen in Teams beleuchtet. \n\n\n\n\n\n\n\n\n\n\n\n\n\n\n\n\n\nTICKETS\n\n\n\n\n\n\n\n\n\n\n\nVERANSTALTER\n\n\n\n\n\n\n\nLOCATION\n\n\n\n\n\n\n\n\n\n\n\nSONSTIGES
URL:https://ki-deutschland.de/event/es-ist-zeit-fuer-ki-kompetenzen-digitale-info-session/
LOCATION:Online / Virtuell
ATTACH;FMTTYPE=image/png:https://ki-deutschland.de/wp-content/uploads/2024/04/222dfe4c2712-2024_04_18_KI_Monat_mAI_Meetup_X.png
END:VEVENT
BEGIN:VEVENT
DTSTART;TZID=Europe/Berlin:20240517T090000
DTEND;TZID=Europe/Berlin:20240517T100000
DTSTAMP:20260423T031046
CREATED:20240502T205147Z
LAST-MODIFIED:20240512T195624Z
UID:10000070-1715936400-1715940000@ki-deutschland.de
SUMMARY:AI-Alu? Mit AI Metall-Legierungen schneller entwickeln!
DESCRIPTION:Neue Produktionsmethoden benötigen neue Metalle und Materialien. Entdecken Sie\, wie KI-basierte Technologien diese Entwicklung revolutionieren. Unser Webinar “AI-Alu? Mit AI Metall-Legierungen schneller entwickeln!” beleuchtet\, wie das Hamburger Unternehmen MaterialsX KI nutzt\, um Entwicklungszeiten drastisch zu verkürzen und neue Wettbewerbsvorteile zu schaffen. Erfahren Sie mehr über die Vorteile des deutschen Innovationsstandorts und warum sich Investitionen in diese Technologien lohnen. \n\n\n\n\n\n\n\n\n\n\n\n\n\n\n\n\n\n\n\n\n\nTICKETS\n\n\n\n\n\n\n\n\n\n\n\n\n\n\n\nVERANSTALTER\n\n\n\n\n\n\n\nLOCATION\n\n\n\n\n\n\n\n\n\n\n\nSONSTIGES
URL:https://ki-deutschland.de/event/ai-alu-mit-ai-metall-legierungen-schneller-entwickeln/
LOCATION:Online
ATTACH;FMTTYPE=image/png:https://ki-deutschland.de/wp-content/uploads/2024/05/c413e2e12dab-1714395770647.png
END:VEVENT
BEGIN:VEVENT
DTSTART;TZID=Europe/Berlin:20240517T110000
DTEND;TZID=Europe/Berlin:20240517T120000
DTSTAMP:20260423T031046
CREATED:20240502T200044Z
LAST-MODIFIED:20240502T200215Z
UID:10000066-1715943600-1715947200@ki-deutschland.de
SUMMARY:AI for Creative Worlds: Tchibo macht Produktwelten visuell erlebbar mit Gen AI
DESCRIPTION:Möchten Sie erleben\, wie die Zukunft des E-Commerce durch den Einsatz von Künstlicher Intelligenz heute schon Realität wird? \n\n\n\nNehmen Sie teil an unserem wegweisenden Webinar und entdecken Sie\, wie Tchibo mit revolutionärer AI-Technologie die Art und Weise\, wie Produkte präsentiert und vermarktet werden\, neu definiert. \n\n\n\nTchibo zählt zu den führenden E-Commerce-Firmen in Europa. Hier entstehen jede Woche neue kreative Produktwelten für den Verkauf. Bei Tchibo arbeiten Expert*innen für Data und Artificial Intelligence heute sehr eng mit Kreativen zusammen.AI ist bei diesen Anwendungen mehr als ein Hype\, sondern ein potentes Productivity Tool. Die attraktive Kommunikation der immer neuen Tchibo Themenwelten verlangt einen großen Aufwand. Das Team um Omar Hairani hat dafür innovative und einzigartige AI-Tools entwickelt. Hier arbeiten Data Scientists und Kreative intensiv zusammen und haben einen gänzlich neuen AI-unterstützten Produktionsprozess für die Tchibo Bildwelten etabliert.Omar Hairani\, Head of Data & Artificial Intelligence wird einen Blick in die Werkstatt der AI-Generierung von Themenwelten und Produkten geben. Er wird über neue Flexibilität und Geschwindigkeit sprechen\, über Dos and Don’ts im Einsatz von AI und auch\, was sein Team und ihn gerade heute motiviert\, AI-Technologie innovativ einzusetzen. \n\n\n\nDies ist mehr als nur ein Webinar; es ist eine Einladung\, Teil einer Diskussion zu werden\, die die Grenzen des Möglichen auslotet. Erfahren Sie\, welche Best Practices und Fallstricke beim Einsatz von AI in der Praxis zu beachten sind. \n\n\n\nSetzen Sie sich an die Spitze der Innovation – verpassen Sie nicht die Gelegenheit\, direkt von den Pionieren zu lernen\, die AI nutzen\, um die Handelslandschaft zu transformieren. Ihre Zukunft könnte davon abhängen. \n\n\n\nMelden Sie sich jetzt an und seien Sie dabei\, wenn wir am 17. Mai um 11:00 Uhr die Zukunft des digitalen Handels neu gestalten! \n\n\n\n\n\n\n\n\n\n\n\n\n\n\n\n\n\n\n\n\n\nTICKETS\n\n\n\n\n\n\n\n\n\n\n\n\n\n\n\nVERANSTALTER\n\n\n\n\n\n\n\nLOCATION\n\n\n\n\n\n\n\n\n\n\n\nSONSTIGES
URL:https://ki-deutschland.de/event/ai-for-creative-worlds-tchibo-macht-produktwelten-visuell-erlebbar-mit-gen-ai-2/
LOCATION:Online
ATTACH;FMTTYPE=image/png:https://ki-deutschland.de/wp-content/uploads/2024/04/d61114e273a7-Tchibo_1200x630.png
END:VEVENT
BEGIN:VEVENT
DTSTART;TZID=Europe/Berlin:20240522T120000
DTEND;TZID=Europe/Berlin:20240522T140000
DTSTAMP:20260423T031046
CREATED:20240424T161315Z
LAST-MODIFIED:20240424T161740Z
UID:10000059-1716379200-1716386400@ki-deutschland.de
SUMMARY:Vorstellung des innovativen Virtual Research Building (VRB) für AI-powered und kognitionsgestützte Robotik  ​
DESCRIPTION:Webinar\, Sprecher: Prof. Dr. h.c. Michael Beetz\, PhD und Co-Sprecher: Dr. Michaela Kümpel\, Vanessa Hassouna\, Sascha Jongebloed\, Arthur Niedzwiecki \n\n\n\n\n\nHaben Sie jemals darüber nachgedacht die wissenschaftliche Spitzenforschung live erleben und sogar selbst ausprobieren zu können? Mit unserem VRB-Webinar bieten wir Ihnen diese Chance! Erleben Sie\, wie es ist\, in innovativen virtuellen Forschungslaboren zu arbeiten und erlangen Sie Basiswissen in führenden Forschungsgebieten. \n\n\n\nAm 22.05.24 von 12:00-14:00 Uhr veranstaltet das Institut für Künstliche Intelligenz (IAI) an der Universität Bremen ein Webinar zum Thema „Das innovative Virtual Research Building (VRB) für AI-powered und kognitionsgestützte Robotik“ unter der Leitung von Prof. Dr. h.c. Michael Beetz\, PhD.Das Virtual Research Building (VRB) ist ein integriertes Ökosystem\, das die Entwicklung von KI-gestützter und kognitionsfähiger Robotik fördern soll. Es unterstützt die gesamte Forschungs- und Innovationspipeline von der Gewinnung von Talenten und der Ausbildung bis zur Zusammenarbeit in der Spitzenforschung und dem Wissenstransfer zum wirtschaftlichen und gesellschaftlichen Nutzen.  \n\n\n\nDas VRB bietet einen umfassenden Zugang zu wesentlichen Softwarekomponenten und der kognitiven Roboterarchitektur CRAM für die Entwicklung einsatzfähiger Roboteragenten. Bildung und Ausbildung werden durch ein Lernzentrum erleichtert\, das interaktive Materialien\, Videovorlesungen und eine einzigartige experimentelle Infrastruktur umfasst. Die Forschung wird durch anpassbare virtuelle Labore gefördert\, die eine dynamische Zusammenarbeit und Open-Source-Beiträge begünstigen. Darüber hinaus fördert die Plattform Neuerungen durch Industriepartnerschaften und bietet einen Rahmen für die gemeinsame Nutzung von Ressourcen und Daten\, der durch eine digitale Forschungs- und Innovationsplattform untermauert wird\, um kontinuierliche Entwicklungen und nachhaltiges Wachstum bei Robotik-Anwendungen zu fördern. \n\n\n\nMit dem VRB bieten wir einen bequemen\, offenen Zugang zu unserer Forschungsinfrastruktur für kooperative und kognitionsgestützte Robotik und KI an. In unserem Webinar erhalten Sie Einblicke\, wie Sie von dieser revolutionären Plattform profitieren können\, die mit state-of-the-art Laboren ausgestattet ist. Lassen Sie sich diese Gelegenheit nicht entgehen und entdecken Sie das Potenzial unseres VRB. Seien Sie dabei und gestalten Sie die Zukunft mit uns! \n\n\n\n\n\n\n\n\n\n\n\n\n\n\n\n\n\nTICKETS\n\n\n\n\n\n\n\n\n\n\n\nVERANSTALTER\n\n\n\n\n\n\n\nLOCATION\n\n\n\n\n\n\n\n\n\n\n\nSONSTIGES
URL:https://ki-deutschland.de/event/vorstellung-des-innovativen-virtual-research-building-vrb-fuer-ai-powered-und-kognitionsgestuetzte-robotik/
LOCATION:Online
ATTACH;FMTTYPE=image/jpeg:https://ki-deutschland.de/wp-content/uploads/2024/04/ce22e21a183a-VRB_Poster_mAI-scaled.jpg
END:VEVENT
BEGIN:VEVENT
DTSTART;TZID=Europe/Berlin:20240522T140000
DTEND;TZID=Europe/Berlin:20240522T150000
DTSTAMP:20260423T031046
CREATED:20240325T091619Z
LAST-MODIFIED:20240329T130818Z
UID:10000030-1716386400-1716390000@ki-deutschland.de
SUMMARY:Edge KI – mehr Flexibilität\, Skalierbarkeit und Sicherheit in der Datenverarbeitung ​
DESCRIPTION:KI (engl. AI) spielt heute eine der wichtigsten Rollen bei der Digitalisierung und ist in der Regel mit einem Cloud-basierten Dienst verbunden. Aber KI muss nicht ausschließlich in der Cloud liegen. Heute gibt es die Möglichkeit durch Edge Computing\, auch direkt auf dem Shopfloor Daten dezentral auszuwerten und Handlungsoptionen vorzugeben. Dies erfolgt durch den Einsatz sogenannter „Edge Controller“. ​ In diesem Webinar erhalten Sie einen Überblick darüber\, wie Industrial Edge und Cloud-Technologien in Kombination mit bestehenden Automatisierungslösungen für mehr Flexibilität\, Skalierbarkeit und Sicherheit in der Datenverarbeitung sorgen und damit die Grundlage für neue Geschäftsmodelle schaffen. \n\n\n\n\n\n\n\n\n\n\n\n\n\n\n\n\n\n\n\n\n\nTICKETS\n\n\n\n\n\n\n\n\n\n\n\nVERANSTALTER\n\n\n\n\n\n\n\nLOCATION\n\n\n\n\n\n\n\n\n\n\n\nSONSTIGES
URL:https://ki-deutschland.de/event/edge-ki-mehr-flexibilitaet-skalierbarkeit-und-sicherheit-in-der-datenverarbeitung/
LOCATION:Online
ATTACH;FMTTYPE=image/png:https://ki-deutschland.de/wp-content/uploads/2024/03/mittelstandzentrum-augsburg.png
END:VEVENT
BEGIN:VEVENT
DTSTART;TZID=Europe/Berlin:20240522T140000
DTEND;TZID=Europe/Berlin:20240522T153000
DTSTAMP:20260423T031046
CREATED:20240512T195249Z
LAST-MODIFIED:20240512T195250Z
UID:10000089-1716386400-1716391800@ki-deutschland.de
SUMMARY:Mythen & Wahrheiten zu ChatGPT & Co.: Sprachmodelle legal meistern
DESCRIPTION:Webinar \n\n\n\n\n\nReferenten: Rechtsanwalt und Datenschutzbeauftragter Marc Oliver Giel von datamog + KI-Berater Mirko Hannig von KIVEMA CONSULTING \n\n\n\nBeschreibung: ChatGPT und ähnliche KI-Tools sind seit über einem Jahr allgegenwärtig\, werfen aber auch Fragen hinsichtlich rechtlicher Aspekte auf. In unserem 90-minütigen Webinar klären wir die häufigsten Mythen und Halbwahrheiten\, um Licht ins Dunkel zu bringen. \n\n\n\nErfahre von unseren Experten\, Rechtsanwalt Marc Oliver Giel und KI-Strategieberater Mirko Hannig\, wie Du KI-Technologien legal und effektiv in Deinem Unternehmen einsetzen kannst. \n\n\n\nWebinar-Highlights:– Erfahrung trifft Expertise: Nutze die Gelegenheit\, von Marc Oliver Giels langjähriger Erfahrung im IT-Recht und Datenschutz sowie von Mirko Hannigs umfassender Praxiserfahrung in der Anwendung von KI im Mittelstand zu profitieren.– Praktische Einblicke und rechtliche Bewertung: Erhalte nicht nur einen Überblick über die theoretischen Grundlagen\, sondern auch praktische Anwendungsbeispiele mit einer eingehenden rechtlichen Bewertung.– Interaktive Q&A-Session: Deine Chance\, direkt Fragen an die Referenten zu stellen und spezifische Anliegen zu diskutieren. \n\n\n\nDieses Webinar richtet sich an Unternehmer\, Führungskräfte und Anwender von KI-Tools\, die ihre Wettbewerbsfähigkeit sichern und gleichzeitig die Einhaltung der aktuellen Datenschutzgesetze gewährleisten wollen. \n\n\n\n\n\n\n\n\n\n\n\n\n\n\n\n\n\n\n\n\n\nTICKETS\n\n\n\n\n\n\n\n\n\n\n\n\n\n\n\nVERANSTALTER\n\n\n\n\n\n\n\nLOCATION\n\n\n\n\n\n\n\n\n\n\n\nSONSTIGES
URL:https://ki-deutschland.de/event/mythen-wahrheiten-zu-chatgpt-co-sprachmodelle-legal-meistern/
LOCATION:Online
ATTACH;FMTTYPE=image/jpeg:https://ki-deutschland.de/wp-content/uploads/2024/05/6e5dadc27ddf-Eventbild.jpg
END:VEVENT
BEGIN:VEVENT
DTSTART;TZID=Europe/Berlin:20240528T123000
DTEND;TZID=Europe/Berlin:20240528T133000
DTSTAMP:20260423T031046
CREATED:20240517T173453Z
LAST-MODIFIED:20240517T173635Z
UID:10000096-1716899400-1716903000@ki-deutschland.de
SUMMARY:AI Act - Wie sieht die neue KI-Regulierung in der EU aus?
DESCRIPTION:Webinar \n\n\n\n\n\nWer ist Adressat des AI Act? Welche KI-Systeme fallen unter der AI Act? Wie können sich Unternehmen auf den AI Act vorbereiten? \n\n\n\nWir werden gemeinsam auf die Änderungen schauen\, die sich in der EU für KI-Systeme durch den neuen AI Act ergeben. \n\n\n\nWir freuen uns auf den Dialog mit Ihnen in unserem Webinar! \n\n\n\n\n\n\n\n\n\n\n\n\n\n\n\n\n\n\n\n\n\nTICKETS\n\n\n\n\n\n\n\n\n\n\n\n\n\n\n\nVERANSTALTER\n\n\n\n\n\n\n\nLOCATION\n\n\n\n\n\n\n\n\n\n\n\nSONSTIGES
URL:https://ki-deutschland.de/event/ai-act-wie-sieht-die-neue-ki-regulierung-in-der-eu-aus/
LOCATION:Online / Virtuell
ATTACH;FMTTYPE=image/jpeg:https://ki-deutschland.de/wp-content/uploads/2024/05/0918985b6a76-https___cdn.evbuc_.com_images_753076829_523593350725_1_original.jpg
END:VEVENT
END:VCALENDAR