BEGIN:VCALENDAR
VERSION:2.0
PRODID:-//KI deutschland - ECPv6.8.3//NONSGML v1.0//EN
CALSCALE:GREGORIAN
METHOD:PUBLISH
X-WR-CALNAME:KI deutschland
X-ORIGINAL-URL:https://ki-deutschland.de
X-WR-CALDESC:Veranstaltungen für KI deutschland
REFRESH-INTERVAL;VALUE=DURATION:PT1H
X-Robots-Tag:noindex
X-PUBLISHED-TTL:PT1H
BEGIN:VTIMEZONE
TZID:Europe/Berlin
BEGIN:DAYLIGHT
TZOFFSETFROM:+0100
TZOFFSETTO:+0200
TZNAME:CEST
DTSTART:20250330T010000
END:DAYLIGHT
BEGIN:STANDARD
TZOFFSETFROM:+0200
TZOFFSETTO:+0100
TZNAME:CET
DTSTART:20251026T010000
END:STANDARD
END:VTIMEZONE
BEGIN:VEVENT
DTSTART;TZID=Europe/Berlin:20250520T184500
DTEND;TZID=Europe/Berlin:20250520T204500
DTSTAMP:20260421T190231
CREATED:20250418T162353Z
LAST-MODIFIED:20250418T164524Z
UID:10000124-1747766700-1747773900@ki-deutschland.de
SUMMARY:Scalable Emulation of Protein Equilibrium Ensembles with Generative Deep Learning
DESCRIPTION:Join our free BLISS Speaker Series Summer 2025! \n\n\n\n\n\n\n\nWe are excited to feature Dr. Yu Xie\, Senior Research Scientist at Microsoft AI4Science\, who will discuss “Scalable Emulation of Protein Equilibrium Ensembles with Generative Deep Learning” \n\n\n\n\n\n\nWebseite\n\n\n\n\n\n\n\nTickets
URL:https://ki-deutschland.de/event/scalable-emulation-of-protein-equilibrium-ensembles-with-generative-deep-learning/
LOCATION:Technische Universität Berlin\, Straße des 17.Juni 135\, Berlin
ATTACH;FMTTYPE=image/png:https://ki-deutschland.de/wp-content/uploads/2025/04/948477d3a82f-6-scaled.png
END:VEVENT
BEGIN:VEVENT
DTSTART;TZID=Europe/Berlin:20250506T184500
DTEND;TZID=Europe/Berlin:20250506T204500
DTSTAMP:20260421T190231
CREATED:20250418T163025Z
LAST-MODIFIED:20250418T163308Z
UID:10000125-1746557100-1746564300@ki-deutschland.de
SUMMARY:CAPI: Cluster & Predict Patches for Improved Image Modeling by T. Darcet
DESCRIPTION:Join our free BLISS Speaker Series Summer 2025! \n\n\n\n\n\n\n\nWe are excited to feature Timothée Darcet\, PhD student at Meta AI and Inria\, who will discuss “CAPI: Cluster and Predict Latent Patches for Improved Masked Image Modeling” \n\n\n\n\n\n\nWebseite\n\n\n\n\n\n\n\nTickets
URL:https://ki-deutschland.de/event/capi-cluster-predict-patches-for-improved-image-modeling-by-t-darcet/
LOCATION:Technische Universität Berlin\, Straße des 17.Juni 135\, Berlin
ATTACH;FMTTYPE=image/png:https://ki-deutschland.de/wp-content/uploads/2025/04/703f5f8b5c2e-4-scaled.png
END:VEVENT
END:VCALENDAR