BEGIN:VCALENDAR
VERSION:2.0
PRODID:-//KI deutschland - ECPv6.8.3//NONSGML v1.0//EN
CALSCALE:GREGORIAN
METHOD:PUBLISH
X-WR-CALNAME:KI deutschland
X-ORIGINAL-URL:https://ki-deutschland.de
X-WR-CALDESC:Veranstaltungen für KI deutschland
REFRESH-INTERVAL;VALUE=DURATION:PT1H
X-Robots-Tag:noindex
X-PUBLISHED-TTL:PT1H
BEGIN:VTIMEZONE
TZID:Europe/Berlin
BEGIN:DAYLIGHT
TZOFFSETFROM:+0100
TZOFFSETTO:+0200
TZNAME:CEST
DTSTART:20260329T010000
END:DAYLIGHT
BEGIN:STANDARD
TZOFFSETFROM:+0200
TZOFFSETTO:+0100
TZNAME:CET
DTSTART:20261025T010000
END:STANDARD
END:VTIMEZONE
BEGIN:VEVENT
DTSTART;TZID=Europe/Berlin:20260521T100000
DTEND;TZID=Europe/Berlin:20260521T120000
DTSTAMP:20260419T021255
CREATED:20260418T110136Z
LAST-MODIFIED:20260418T111146Z
UID:10000161-1779357600-1779364800@ki-deutschland.de
SUMMARY:Webinar-Matinee: Künstliche Intelligenz – Praxisnah und zukunftsweisend
DESCRIPTION:Webinar-Matinee\, Online\, kostenfrei \n\n\n\n\n\n\n\nDie Webinar-Matinee „Künstliche Intelligenz – praxisnah und zukunftsweisend“ zeigt\, wie Unternehmen KI konkret und gewinnbringend einsetzen können. \n\n\n\nFührungsexperten aus Wirtschaft und IT geben Einblicke in aktuelle KI-Trends\, strategische Ansätze und praxisnahe Use Cases – speziell mit Blick auf den Mittelstand. \n\n\n\n\n\n\n\nWebinar\, Online\, Teilnahme kostenfrei \n\n\n\n\n\n\nAnmeldung\n\n\n\n\n\n\n\nWebseite\n\n\n\n\n\n\n\n\n\n\nMehr Informationen
URL:https://ki-deutschland.de/event/webinar-matinee-kuenstliche-intelligenz-praxisnah-und-zukunftsweisend/
LOCATION:Online / Virtuell
ATTACH;FMTTYPE=image/jpeg:https://ki-deutschland.de/wp-content/uploads/2026/04/14609_Webinar_Detail_Bild_1250_406_ohneText__1___1_-1.jpg
END:VEVENT
END:VCALENDAR