BEGIN:VCALENDAR
VERSION:2.0
PRODID:-//KI deutschland - ECPv6.8.3//NONSGML v1.0//EN
CALSCALE:GREGORIAN
METHOD:PUBLISH
X-ORIGINAL-URL:https://ki-deutschland.de
X-WR-CALDESC:Veranstaltungen für KI deutschland
REFRESH-INTERVAL;VALUE=DURATION:PT1H
X-Robots-Tag:noindex
X-PUBLISHED-TTL:PT1H
BEGIN:VTIMEZONE
TZID:Europe/Berlin
BEGIN:DAYLIGHT
TZOFFSETFROM:+0100
TZOFFSETTO:+0200
TZNAME:CEST
DTSTART:20260329T010000
END:DAYLIGHT
BEGIN:STANDARD
TZOFFSETFROM:+0200
TZOFFSETTO:+0100
TZNAME:CET
DTSTART:20261025T010000
END:STANDARD
END:VTIMEZONE
BEGIN:VEVENT
DTSTART;TZID=Europe/Berlin:20260506T100000
DTEND;TZID=Europe/Berlin:20260506T113000
DTSTAMP:20260419T065041
CREATED:20260418T104929Z
LAST-MODIFIED:20260418T104931Z
UID:10000160-1778061600-1778067000@ki-deutschland.de
SUMMARY:KI verantwortungsvoll gestalten – Normen & Standards als strategischer Erfolgsfaktor
DESCRIPTION:Online-Impuls mit Austauschmöglichkeit\, kostenfrei \n\n\n\n\n\n\n\nKI verantwortungsvoll gestalten – Normen & Standards als strategischer Erfolgsfaktorcher nutzen \n\n\n\nKünstliche Intelligenz bietet große Chancen für kleine und mittlere Unternehmen – von effizienteren Prozessen bis hin zu neuen Geschäftsmodellen. Gleichzeitig stellen sich Fragen rund um Qualität\, Sicherheit\, Transparenz und Vertrauen. \n\n\n\nIn dieser Online-Veranstaltung zeigen wir\, warum Normen und Standards dabei eine zentrale Rolle spielen und wie Unternehmen sowie Multiplikatoren sie konkret nutzen können.  \n\n\n\nGemeinsam mit dem Deutschen Institut für Normung e. V. (DIN) geben wir – die Mittelstand-Digital Zentren Franken und Zukunftskultur – praxisnahe Einblicke\, wie sich Normung als strategisches Instrument einsetzen lässt\, um KI-Anwendungen verantwortungsvoll\, rechtskonform und vertrauenswürdig zu gestalten. \n\n\n\n\n\n\n\nOnline-Impuls mit Austauschmöglichkeit \n\n\n\n\n\n\nAnmeldung\n\n\n\n\n\n\n\n\n\nWebseite\n\n\n\n\n\n\n\n\n\n\nMehr Informationen https://www.digitalzentrum-zukunftskultur.de/veranstaltungen
URL:https://ki-deutschland.de/event/ki-verantwortungsvoll-gestalten-normen-standards-als-strategischer-erfolgsfaktor/
LOCATION:Online / Virtuell
ATTACH;FMTTYPE=image/png:https://ki-deutschland.de/wp-content/uploads/2026/04/Visual_Normen_Standards-2.png
END:VEVENT
END:VCALENDAR