BEGIN:VCALENDAR
VERSION:2.0
PRODID:-//KI deutschland - ECPv6.8.3//NONSGML v1.0//EN
CALSCALE:GREGORIAN
METHOD:PUBLISH
X-ORIGINAL-URL:https://ki-deutschland.de
X-WR-CALDESC:Veranstaltungen für KI deutschland
REFRESH-INTERVAL;VALUE=DURATION:PT1H
X-Robots-Tag:noindex
X-PUBLISHED-TTL:PT1H
BEGIN:VTIMEZONE
TZID:Europe/Berlin
BEGIN:DAYLIGHT
TZOFFSETFROM:+0100
TZOFFSETTO:+0200
TZNAME:CEST
DTSTART:20240331T010000
END:DAYLIGHT
BEGIN:STANDARD
TZOFFSETFROM:+0200
TZOFFSETTO:+0100
TZNAME:CET
DTSTART:20241027T010000
END:STANDARD
END:VTIMEZONE
BEGIN:VEVENT
DTSTART;TZID=Europe/Berlin:20240528T140000
DTEND;TZID=Europe/Berlin:20240528T150000
DTSTAMP:20260421T203718
CREATED:20240416T161254Z
LAST-MODIFIED:20240517T171824Z
UID:10000049-1716904800-1716908400@ki-deutschland.de
SUMMARY:ExplAIning and Enabling GenAI
DESCRIPTION:Das Verständnis\, wie man effektiv mit ChatGPT interagiert ist von entscheidender Bedeutung. Diese interaktive Session bietet einen Einblick in die Welt des maschinellen Lernens und zeigt\, wie das volle Potenzial von ChatGPT entfesselt werde kann.Schritt für Schritt werden wir gemeinsam erkunden\, wie man mit dieser leistungsstarken KI-Plattform auf natürliche und wirkungsvolle Weise kommuniziert\, um das bestmöglichste Ergebnis herauszuholen. Von der richtigen Formulierung von Anfragen bis hin zur Interpretation von Antworten werden wir praktische Beispiele durchgehen – dabei ist das Publikum ebenfalls gefragt. Speaker:Franziska Gerner\, Head of Digital Competencies\, https://www.linkedin.com/in/franziska-gerner/Peter Wlacil\, Digitalization Strategy Professional\, https://www.linkedin.com/in/peter-wlacil-7b1339228/ \n\n\n\nAm Online-Meetup via MS Teams teilnehmen über den folgenden Link: https://teams.microsoft.com/ \n\n\n\nDie maximal Teilnehmeranzahl vor Ort ist 40 Personen. Wir bitten Sie deswegen\, falls Sie vorhaben\, die Session vor Ort zu besuchen\, sich per E-Mail an wlacipte@schaeffler.com anzumelden. Bitte beachten Sie\, dass ohne Anmeldung eine Teilnahme vor Ort nicht möglich ist. \n\n\n\n\n\n\n\n\n\n\n\n\n\n\n\n\n\nTICKETS\n\n\n\n\n\n\nZugangsdaten Meetup – MS Teams Link\n\n\n\n\n\n\n\n\n\n\nVERANSTALTER\n\n\n\n\n\n\n\nLOCATION\n\n\n\n\n\n\n\n\n\n\n\nSONSTIGES
URL:https://ki-deutschland.de/event/explaining-and-enabling-genai/
LOCATION:Schaeffler AG\, Thurn-und-Taxis-Straße 10\, Nürnberg\, 90411
ATTACH;FMTTYPE=image/png:https://ki-deutschland.de/wp-content/uploads/2024/04/ExplAIning-Enabling-GenAI-1.png
END:VEVENT
BEGIN:VEVENT
DTSTART;TZID=Europe/Berlin:20240528T123000
DTEND;TZID=Europe/Berlin:20240528T140000
DTSTAMP:20260421T203718
CREATED:20240424T163948Z
LAST-MODIFIED:20240517T171736Z
UID:10000060-1716899400-1716904800@ki-deutschland.de
SUMMARY:Networking Lunch mit den KI-Experten von Schaeffler 
DESCRIPTION:Nutzen Sie die Chance\, bei einem leckeren Essen unsere Vortragenden und weitere Fachexperten kennenzulernen.  \n\n\n\nDies ist Ihre perfekte Gelegenheit\, interessante Einblicke zu gewinnen und Ihr berufliches Netzwerk zu erweitern. \n\n\n\nFreuen Sie sich auf anregende Gespräche und Essen in einer inspirierenden Umgebung. \n\n\n\nWir freuen uns darauf\, Sie zu begrüßen und gemeinsam neue Möglichkeiten zu erkunden! \n\n\n\nDie maximal Teilnehmeranzahl vor Ort ist 40 Personen. Wir bitten Sie deswegen\, falls Sie vorhaben\, das Lunch vor Ort zu besuchen\, sich per E-Mail an wlacipte@schaeffler.com anzumelden. Bitte beachten Sie\, dass ohne Anmeldung eine Teilnahme vor Ort nicht möglich ist. \n\n\n\n\n\n\n\n\n\n\n\n\n\n\n\n\n\nTICKETS\n\n\n\n\n\n\n\n\n\n\n\n\n\n\n\nVERANSTALTER\n\n\n\n\n\n\n\nLOCATION\n\n\n\n\n\n\n\n\n\n\n\nSONSTIGES
URL:https://ki-deutschland.de/event/networking-lunch-mit-den-ki-experten-von-schaeffler-2/
LOCATION:Schaeffler AG\, Thurn-und-Taxis-Straße 10\, Nürnberg\, 90411
ATTACH;FMTTYPE=image/png:https://ki-deutschland.de/wp-content/uploads/2024/04/Kommen-Sie-zum-Networking-Lunch-mit-den-Experten-1.png
END:VEVENT
BEGIN:VEVENT
DTSTART;TZID=Europe/Berlin:20240528T113000
DTEND;TZID=Europe/Berlin:20240528T123000
DTSTAMP:20260421T203718
CREATED:20240416T161000Z
LAST-MODIFIED:20240517T171838Z
UID:10000048-1716895800-1716899400@ki-deutschland.de
SUMMARY:Von Prototypen zu Plattformen: Skalierung von KI-Applikationen
DESCRIPTION:Von Prototypen zu Plattformen: Skalierung von KI-Applikationen \n\n\n\nDiese Keynote richtet sich an Zuhörende\, die bereits ein Basiswissen im Bereich Generative AI aufgebaut haben.Sie beleuchtet\, wie Unternehmen ihre KI-Projekte von experimentellen Prototypen zu robusten\, skalierbaren Lösungen entwickeln können.Herausforderungen und Erfolgsstrategien beim Aufbau einer Plattform für generative künstliche Intelligenz stehen im Vordergrund.Beispielsweise wird die sichere Integration von Unternehmensdaten in Chatbots erörtert.Alle Inhalte werden praxisnah am Beispiel des Schaeffler Chatbots vorgestellt. \n\n\n\nSpeakerFabian Dworschak\, Digital Twins & Data Science Solutions\, https://www.linkedin.com/in/fabian-dworschak-409498224/ \n\n\n\nAn der Keynote online via MS Teams teilnehmen über den folgenden Link: https://teams.microsoft.com/ \n\n\n\nDie maximal Teilnehmeranzahl vor Ort ist 40 Personen. Wir bitten Sie deswegen\, falls Sie vorhaben\, die Session vor Ort zu besuchen\, sich per E-Mail an wlacipte@schaeffler.com anzumelden. Bitte beachten Sie\, dass ohne Anmeldung eine Teilnahme vor Ort nicht möglich ist. \n\n\n\n\n\n\n\n\n\n\n\n\n\n\n\n\n\nTICKETS\n\n\n\n\n\n\nZugangsdaten Keynote – MS Teams Link\n\n\n\n\n\n\n\n\n\n\nVERANSTALTER\n\n\n\n\n\n\n\nLOCATION\n\n\n\n\n\n\n\n\n\n\n\nSONSTIGES
URL:https://ki-deutschland.de/event/von-prototypen-zu-plattformen-skalierung-von-ki-applikationen/
LOCATION:Schaeffler AG\, Thurn-und-Taxis-Straße 10\, Nürnberg\, 90411
ATTACH;FMTTYPE=image/png:https://ki-deutschland.de/wp-content/uploads/2024/04/Von-Prototypen-zu-Plattformen-Skalierung-von-KI-Applikationen.png
END:VEVENT
BEGIN:VEVENT
DTSTART;TZID=Europe/Berlin:20240528T100000
DTEND;TZID=Europe/Berlin:20240528T113000
DTSTAMP:20260421T203718
CREATED:20240416T160549Z
LAST-MODIFIED:20240517T171747Z
UID:10000047-1716890400-1716895800@ki-deutschland.de
SUMMARY:AI Strategy & Implementation: AI Governance bei Schaeffler 
DESCRIPTION:In dieser Keynote adressieren wir die entscheidenden Fragen rund um die Governance von künstlicher Intelligenz (KI) und deren Einfluss auf unsere Unternehmens- und Digitalisierungsstrategie. Lernen Sie\, wie transparente Richtlinien für den Einsatz von KI bei Schaeffler implementiert werden\, die sowohl regulatorischen Anforderungen entsprechen als auch Vertrauen und Akzeptanz innerhalb der AI Community von Schaeffler fördern.  \n\n\n\nBeginn: 10:15 am\, ca. 1 h \n\n\n\nSpeakerMarius Rössner\, Data & Analytics Governance\, https://www.linkedin.com/in/marius-r%C3%B6%C3%9Fner-035313196/ \n\n\n\nAn der Keynote online via MS Teams teilnehmen über den folgenden Link: https://teams.microsoft.com \n\n\n\nDie maximal Teilnehmeranzahl vor Ort ist 40 Personen. Wir bitten Sie deswegen\, falls Sie vorhaben\, die Session vor Ort zu besuchen\, sich per E-Mail an wlacipte@schaeffler.com anzumelden. Bitte beachten Sie\, dass ohne Anmeldung eine Teilnahme vor Ort nicht möglich ist. \n\n\n\n\n\n\n\n\n\n\n\n\n\n\n\n\n\nTICKETS\n\n\n\n\n\n\nZugangsdaten Keynote – MS Teams Link\n\n\n\n\n\n\n\n\n\n\n\n\n\n\nVERANSTALTER\n\n\n\n\n\n\n\nLOCATION\n\n\n\n\n\n\n\n\n\n\n\nSONSTIGES
URL:https://ki-deutschland.de/event/ai-strategy-implementation-ai-governance-bei-schaeffler/
LOCATION:Schaeffler AG\, Thurn-und-Taxis-Straße 10\, Nürnberg\, 90411
ATTACH;FMTTYPE=image/png:https://ki-deutschland.de/wp-content/uploads/2024/04/AI-Strategy-Implementation-AI-Governance-bei-Schaeffler.png
END:VEVENT
BEGIN:VEVENT
DTSTART;TZID=Europe/Berlin:20240528T090000
DTEND;TZID=Europe/Berlin:20240528T100000
DTSTAMP:20260421T203718
CREATED:20240416T160131Z
LAST-MODIFIED:20240517T171815Z
UID:10000046-1716886800-1716890400@ki-deutschland.de
SUMMARY:Digitale Transformation mit KI - wie bei Schaeffler aus Science Fiction Realität wird 
DESCRIPTION:Erfahren Sie\, wie Schaeffler künstliche Intelligenz (KI) nutzt\, um digitale Potentiale zu entfesseln und erleben Sie\, wie wir gemeinsam mit unseren Mitarbeitenden die Reise ins Zeitalter der KI gestalten. \n\n\n\nSpeakerChristof Heurung\, Head of Strategic Digitalization\, https://www.linkedin.com/in/christof-heurung-410195198/ \n\n\n\nSusanne Gottschalk\, Digital Transformation & Change Management\, https://www.linkedin.com/in/susanne-gottschalk-409029144/ \n\n\n\nAm Online-Meetup via MS Teams teilnehmen über den folgenden Link: https://teams.microsoft.com/ \n\n\n\nDie maximal Teilnehmeranzahl vor Ort ist 40 Personen. Wir bitten Sie deswegen\, falls Sie vorhaben\, die Session vor Ort zu besuchen\, sich per E-Mail an wlacipte@schaeffler.com anzumelden. Bitte beachten Sie\, dass ohne Anmeldung eine Teilnahme vor Ort nicht möglich ist. \n\n\n\n\n\n\n\n\n\n\n\n\n\n\n\n\n\nTICKETS\n\n\n\n\n\n\nZugangsdaten Meetup – MS Teams Link\n\n\n\n\n\n\n\n\n\n\n\n\n\n\nVERANSTALTER\n\n\n\n\n\n\n\nLOCATION\n\n\n\n\n\n\n\n\n\n\n\nSONSTIGES
URL:https://ki-deutschland.de/event/digitale-transformation-mit-ki-wie-bei-schaeffler-aus-science-fiction-realitaet-wird/
LOCATION:Schaeffler AG\, Thurn-und-Taxis-Straße 10\, Nürnberg\, 90411
ATTACH;FMTTYPE=image/png:https://ki-deutschland.de/wp-content/uploads/2024/04/Digitale-Transformation-mit-KI-wie-bei-Schaeffler-aus-Science-Fiction-Realitaet-wird.png
END:VEVENT
END:VCALENDAR