BEGIN:VCALENDAR
VERSION:2.0
PRODID:-//KI deutschland - ECPv6.8.3//NONSGML v1.0//EN
CALSCALE:GREGORIAN
METHOD:PUBLISH
X-ORIGINAL-URL:https://ki-deutschland.de
X-WR-CALDESC:Veranstaltungen für KI deutschland
REFRESH-INTERVAL;VALUE=DURATION:PT1H
X-Robots-Tag:noindex
X-PUBLISHED-TTL:PT1H
BEGIN:VTIMEZONE
TZID:Europe/Berlin
BEGIN:DAYLIGHT
TZOFFSETFROM:+0100
TZOFFSETTO:+0200
TZNAME:CEST
DTSTART:20240331T010000
END:DAYLIGHT
BEGIN:STANDARD
TZOFFSETFROM:+0200
TZOFFSETTO:+0100
TZNAME:CET
DTSTART:20241027T010000
END:STANDARD
END:VTIMEZONE
BEGIN:VEVENT
DTSTART;TZID=Europe/Berlin:20240507T170000
DTEND;TZID=Europe/Berlin:20240507T200000
DTSTAMP:20260421T191258
CREATED:20240301T084337Z
LAST-MODIFIED:20240424T163656Z
UID:10000015-1715101200-1715112000@ki-deutschland.de
SUMMARY:Startups\, Unternehmen und KI: Rechtsguide um KI-Compliance zu meistern
DESCRIPTION:Paneldiskussion und Networking \n\n\n\n\n\nUnter dem Titel „Startups\, Unternehmen und KI: Rechtsguide um KI-Compliance zu meistern“ findet am 07.05.2024 ein Experten-Panel statt\, das Licht ins Dunkel der rechtlichen Aspekte künstlicher Intelligenz bringt.Mit dem rasanten Fortschritt der KI-Technologie stehen Startups und etablierte Unternehmen gleichermaßen vor neuen Herausforderungen. Rechtsfragen wie das Geistige Eigentum und Regulierung werden immer relevanter – doch wie navigiert man durch dieses komplexe rechtliche Terrain?Dieses Panel bietet Ihnen die ideale Gelegenheit\, von führenden Experten zu lernen:· Andrea Schlote – Counsel @ Bird & Bird (Moderation)· Simon Hembt – Associate @ Bird @ Bird· Oliver Belitz – Associate @ Bird @ Bird· Dr. Sabine Wiesmüller – Director AI (Europe) @Start2 Group· Daniel Weimer – CTO CertAIWir decken alles ab – von den Grundlagen der KI-Compliance bis zu fortgeschrittenen Strategien\, die Ihrem Unternehmen helfen\, nicht nur zu überleben\, sondern in diesem neuen Zeitalter zu florieren.  \n\n\n\nMerken Sie sich den 07.05.2024 vor und seien Sie dabei\, um:· Wichtige rechtliche Insights und Best Practices zu erhalten.· Ihre spezifischen Fragen von unseren Experten beantworten zu lassen.· Mit Gleichgesinnten zu netzwerken und Erfahrungen auszutauschen. \n\n\n\n\n\n\n\n\n\n\n\n\n\n\n\n\n\nTICKETS\n\n\n\n\n\n\n\n\n\n\n\nVERANSTALTER\n\n\n\n\n\n\n\nLOCATION\n\n\n\n\n\n\n\n\n\n\n\nSONSTIGES
URL:https://ki-deutschland.de/event/start2-panel-workshops-und-networking/
LOCATION:Start2 Group\, Balanstraße 73 / Haus 19 B\, München\, 81541
ATTACH;FMTTYPE=image/jpeg:https://ki-deutschland.de/wp-content/uploads/2024/04/f4aac1badabe-https___cdn.evbuc_.com_images_742059019_495718342045_1_original.jpg
END:VEVENT
END:VCALENDAR