BEGIN:VCALENDAR
VERSION:2.0
PRODID:-//KI deutschland - ECPv6.8.3//NONSGML v1.0//EN
CALSCALE:GREGORIAN
METHOD:PUBLISH
X-ORIGINAL-URL:https://ki-deutschland.de
X-WR-CALDESC:Veranstaltungen für KI deutschland
REFRESH-INTERVAL;VALUE=DURATION:PT1H
X-Robots-Tag:noindex
X-PUBLISHED-TTL:PT1H
BEGIN:VTIMEZONE
TZID:Europe/Berlin
BEGIN:DAYLIGHT
TZOFFSETFROM:+0100
TZOFFSETTO:+0200
TZNAME:CEST
DTSTART:20260329T010000
END:DAYLIGHT
BEGIN:STANDARD
TZOFFSETFROM:+0200
TZOFFSETTO:+0100
TZNAME:CET
DTSTART:20261025T010000
END:STANDARD
END:VTIMEZONE
BEGIN:VEVENT
DTSTART;TZID=Europe/Berlin:20260521T100000
DTEND;TZID=Europe/Berlin:20260521T110000
DTSTAMP:20260419T033040
CREATED:20260418T111043Z
LAST-MODIFIED:20260418T111110Z
UID:10000162-1779357600-1779361200@ki-deutschland.de
SUMMARY:AI Smart Glasses: KI dort\, wo wirklich gearbeitet wird
DESCRIPTION:Webinar\, Online\, kostenfrei \n\n\n\n\n\n\n\nAI Smart Glasses bringen KI direkt in Produktion\, Logistik und Service \n\n\n\nIm Webinar zeigen wir\, wie smarte Brillen operative Mitarbeitende hands‑free mit Anleitungen\, Kontextinfos\, Dokumentation und Remote‑Support unterstützen – gesteuert durch ein sicheres KI‑Backend.  \n\n\n\nErfahren Sie außerdem\, wie die Lösung enterprise‑tauglich in Cloud oder On‑Premise betrieben wird und die „Deskless Gap“ schließt. \n\n\n\n\n\n\n\nWebinar\, Online\, Teilnahme kostenfrei \n\n\n\n\n\n\nAnmeldung\n\n\n\n\n\n\n\nWebseite\n\n\n\n\n\n\n\n\n\n\nMehr Informationen
URL:https://ki-deutschland.de/event/ai-smart-glasses-ki-dort-wo-wirklich-gearbeitet-wird/
LOCATION:Online / Virtuell
ATTACH;FMTTYPE=image/jpeg:https://ki-deutschland.de/wp-content/uploads/2026/04/14609_Webinar_Detail_Bild_1250_406_ohneText__1___1_-1.jpg
END:VEVENT
END:VCALENDAR