BEGIN:VCALENDAR
VERSION:2.0
PRODID:-//KI deutschland - ECPv6.8.3//NONSGML v1.0//EN
CALSCALE:GREGORIAN
METHOD:PUBLISH
X-WR-CALNAME:KI deutschland
X-ORIGINAL-URL:https://ki-deutschland.de
X-WR-CALDESC:Veranstaltungen für KI deutschland
REFRESH-INTERVAL;VALUE=DURATION:PT1H
X-Robots-Tag:noindex
X-PUBLISHED-TTL:PT1H
BEGIN:VTIMEZONE
TZID:Europe/Berlin
BEGIN:DAYLIGHT
TZOFFSETFROM:+0100
TZOFFSETTO:+0200
TZNAME:CEST
DTSTART:20250330T010000
END:DAYLIGHT
BEGIN:STANDARD
TZOFFSETFROM:+0200
TZOFFSETTO:+0100
TZNAME:CET
DTSTART:20251026T010000
END:STANDARD
END:VTIMEZONE
BEGIN:VEVENT
DTSTART;TZID=Europe/Berlin:20250520T120000
DTEND;TZID=Europe/Berlin:20250520T140000
DTSTAMP:20260421T201937
CREATED:20250502T104838Z
LAST-MODIFIED:20250502T105442Z
UID:10000134-1747742400-1747749600@ki-deutschland.de
SUMMARY:Brandenburger KI Landpartie: KI & Robotik
DESCRIPTION:Mit der Veranstaltung sollen schlagkräftige Impulse für den aktiven Austausch zwischen aktiven und potentiellen KI-Akteuren gesetzt werden. \n\n\n\n\n\n\n\nZiel ist es\, das Bewusstsein der Öffentlichkeit für die Bedeutung von Künstlicher Intelligenz für die Modernisierung von Industrie und Verwaltung zu schärfen und Vertrauen in KI aufzubauen. Das Format der Landpartie wird gewählt\, um einerseits bewusst Akzente auf die ländlichen Facetten des Flächenlandes Brandenburg zu setzen. Andererseits zeigt Brandenburg mit der KI Landpartie sein innovatives Potenzial mit seinen vielfältigen Regionen sowie Unternehmen und Forschungseinrichtungen\, die KI in den verschiedensten Anwendungsbereichen und Technologiefeldern nutzen und voranbringen. Mit der Veranstaltung sollen schlagkräftige Impulse für den aktiven Austausch zwischen aktiven und potentiellen KI-Akteuren gesetzt werden. \n\n\n\nWir werden die Veranstaltung hybrid durchführen\, um möglichst vielen Interessierten die Teilnahme zu ermöglichen. Bitte melden Sie sich unter den unten stehenden Veranstaltungslinks an\, die Plätze für die Präsenztermine sind begrenzt. \n\n\n\nWie verändern Roboter die Gastronomie? Welche Chancen bietet Automatisierung für Service und Gastfreundschaft? Tauchen Sie ein in die Zukunft des Gastgewerbes – im Restaurant „Aktivist“ in Eisenhüttenstadt\, wo Serviceroboter bereits fester Bestandteil des Arbeitsalltags sind. Nach einer kurzen Führung durch die denkmalgeschützten Räumlichkeiten teilt Restaurantchef Henryk Dytfeld seine Erfahrungen mit dem Robotereinsatz im Restaurantbetrieb. \n\n\n\nDoch Robotik kann noch mehr: Neben den Servicerobotern werden Sie auch einen sozialen Roboter kennenlernen\, der in Pflegeeinrichtungen und Krankenhäusern zum Einsatz kommt\, sowie einen weiteren innovativen Serviceroboter mit besonderen Funktionen. \n\n\n\nErleben Sie\, wie moderne Robotik den Alltag erleichtert\, und tauschen Sie sich mit Expertinnen und Experten über die Potenziale dieser Technologien aus. Live vor Ort dabei sein lohnt sich! \n\n\n\nDie Teilnahme an der Veranstaltung ist vor Ort in Präsenz möglich oder kann alternativ via Livestream verfolgt werden. \n\n\n\n\n\n\nWebseite\n\n\n\n\n\n\n\nTickets
URL:https://ki-deutschland.de/event/brandenburger-ki-landpartie-robotik/
LOCATION:Restaurant Aktivist\, Karl-Marx-Straße 45\, Eisenhüttenstadt\, 15890
ATTACH;FMTTYPE=image/png:https://ki-deutschland.de/wp-content/uploads/2025/05/66a6fe1d6925-KI_Landpartie_handbuchkonform.png
END:VEVENT
END:VCALENDAR