BEGIN:VCALENDAR
VERSION:2.0
PRODID:-//KI deutschland - ECPv6.8.3//NONSGML v1.0//EN
CALSCALE:GREGORIAN
METHOD:PUBLISH
X-WR-CALNAME:KI deutschland
X-ORIGINAL-URL:https://ki-deutschland.de
X-WR-CALDESC:Veranstaltungen für KI deutschland
REFRESH-INTERVAL;VALUE=DURATION:PT1H
X-Robots-Tag:noindex
X-PUBLISHED-TTL:PT1H
BEGIN:VTIMEZONE
TZID:Europe/Berlin
BEGIN:DAYLIGHT
TZOFFSETFROM:+0100
TZOFFSETTO:+0200
TZNAME:CEST
DTSTART:20250330T010000
END:DAYLIGHT
BEGIN:STANDARD
TZOFFSETFROM:+0200
TZOFFSETTO:+0100
TZNAME:CET
DTSTART:20251026T010000
END:STANDARD
END:VTIMEZONE
BEGIN:VEVENT
DTSTART;TZID=Europe/Berlin:20250513T090000
DTEND;TZID=Europe/Berlin:20250513T180000
DTSTAMP:20260425T110616
CREATED:20250216T122245Z
LAST-MODIFIED:20250216T122407Z
UID:10000102-1747126800-1747159200@ki-deutschland.de
SUMMARY:trade/off  The Decision Intelligence Summit
DESCRIPTION:Die erste deutsche Fachkonferenz für Business-Strategien für Business Growth und Innovation im KI-Zeitalter ist am 13. Mai in Heidelberg \n\n\n\n\n\n\n\nWie können Unternehmen mithilfe von KI Mehrwert schaffen\, der morgen noch zählt? Auf dem trade/off Summit zeigen führende Köpfe und Visionäre\, wie KI zum Motor für Wachstum\, Resilienz und Wettbewerbsfähigkeit wird – und wie sich Unternehmen damit fit für die Zukunft machen.  \n\n\n\nSchwerpunkt 2025: “Driving Performance in the Intelligent Age” \n\n\n\n\n\n\nTickets\n\n\n\n\n\n\n\nWebseite
URL:https://ki-deutschland.de/event/trade-off-the-decision-intelligence-summit/
LOCATION:halle02\, Zollhofgarten 2\, Heidelberg\, 69115
ATTACH;FMTTYPE=image/png:https://ki-deutschland.de/wp-content/uploads/2025/01/f6287147f50a-tradeoff_summit_2025_no_slogan_dark_4x.png
END:VEVENT
END:VCALENDAR