BEGIN:VCALENDAR
VERSION:2.0
PRODID:-//KI deutschland - ECPv6.8.3//NONSGML v1.0//EN
CALSCALE:GREGORIAN
METHOD:PUBLISH
X-ORIGINAL-URL:https://ki-deutschland.de
X-WR-CALDESC:Veranstaltungen für KI deutschland
REFRESH-INTERVAL;VALUE=DURATION:PT1H
X-Robots-Tag:noindex
X-PUBLISHED-TTL:PT1H
BEGIN:VTIMEZONE
TZID:Europe/Berlin
BEGIN:DAYLIGHT
TZOFFSETFROM:+0100
TZOFFSETTO:+0200
TZNAME:CEST
DTSTART:20260329T010000
END:DAYLIGHT
BEGIN:STANDARD
TZOFFSETFROM:+0200
TZOFFSETTO:+0100
TZNAME:CET
DTSTART:20261025T010000
END:STANDARD
END:VTIMEZONE
BEGIN:VEVENT
DTSTART;TZID=Europe/Berlin:20260512T083000
DTEND;TZID=Europe/Berlin:20260512T183000
DTSTAMP:20260422T003349
CREATED:20260421T155452Z
LAST-MODIFIED:20260421T161657Z
UID:10000167-1778574600-1778610600@ki-deutschland.de
SUMMARY:trade/off Summit 2026 – Die Konferenz für AI x Business Growth
DESCRIPTION:Konferenz \n\n\n\n\n\n\n\n\n\nIn diesem Jahr dreht sich das Event um folgende Schwerpunkte: “Towards an Agentic Future”\, “Running AI at Scale” und “Leading Through the Next AI Shift”. \n\n\n\n\n\n\n\n\n\n\nTickets\n\n\n\n\n\n\n\n\n\nWebseite\n\n\n\n\n\n\n\n\n\n\nMehr Informationen https://www.tradeoff.ai/
URL:https://ki-deutschland.de/event/trade-off-summit-2026-die-konferenz-fuer-ai-x-business-growth/
LOCATION:halle02 / Güterbahnhof Heidelberg\, Zollhofgarten 2\, Heidelberg\, 69115
ATTACH;FMTTYPE=image/png:https://ki-deutschland.de/wp-content/uploads/2026/04/tradeoff_summit_26_logo_vertical_dark_background.png
END:VEVENT
END:VCALENDAR