BEGIN:VCALENDAR
VERSION:2.0
PRODID:-//KI deutschland - ECPv6.8.3//NONSGML v1.0//EN
CALSCALE:GREGORIAN
METHOD:PUBLISH
X-WR-CALNAME:KI deutschland
X-ORIGINAL-URL:https://ki-deutschland.de
X-WR-CALDESC:Veranstaltungen für KI deutschland
REFRESH-INTERVAL;VALUE=DURATION:PT1H
X-Robots-Tag:noindex
X-PUBLISHED-TTL:PT1H
BEGIN:VTIMEZONE
TZID:Europe/Berlin
BEGIN:DAYLIGHT
TZOFFSETFROM:+0100
TZOFFSETTO:+0200
TZNAME:CEST
DTSTART:20260329T010000
END:DAYLIGHT
BEGIN:STANDARD
TZOFFSETFROM:+0200
TZOFFSETTO:+0100
TZNAME:CET
DTSTART:20261025T010000
END:STANDARD
END:VTIMEZONE
BEGIN:VEVENT
DTSTART;TZID=Europe/Berlin:20260527T120000
DTEND;TZID=Europe/Berlin:20260527T123000
DTSTAMP:20260423T043428
CREATED:20260422T181528Z
LAST-MODIFIED:20260422T182336Z
UID:10000172-1779883200-1779885000@ki-deutschland.de
SUMMARY:KI: Hype\, Hoffnung oder echter Gamechanger? Im Gespräch mit Dr. Maximilian Ahrens\, Managing Director T Digital - NØRD 2026
DESCRIPTION:Vortrag auf Konferenz \n\n\n\n\n\n\n\n\n\nKI: Hype\, Hoffnung oder echter Gamechanger? Im Gespräch mit Dr. Maximilian Ahrens\, Managing Director T Digital \n\n\n\nDigital Künstliche Intelligenz ist eines der meistdiskutierten Themen unserer Zeit.  \n\n\n\nDoch was steckt wirklich dahinter?  \n\n\n\nDr. Maximilian Ahrens beleuchtet\, wo KI heute schon echten Mehrwert schafft\, welche Use Cases funktionieren und wie sich der Spagat zwischen Hype\, Innovation und digitaler Souveränität erfolgreich gestalten lässt. \n\n\n\n\n\n\n\n\n\n\nTickets\n\n\n\n\n\n\n\n\n\nWebseite\n\n\n\n\n\n\n\n\n\n\nMehr Informationen https://www.digitalesmv.de/noerd/programm
URL:https://ki-deutschland.de/event/ki-hype-hoffnung-oder-echter-gamechanger-im-gespraech-mit-dr-maximilian-ahrens-managing-director-t-digital-nord-2026/
LOCATION:HanseMesse Rostock\, Ortsamt 4\, Rostock\, 18106
ATTACH;FMTTYPE=image/png:https://ki-deutschland.de/wp-content/uploads/2026/04/Grafik_Nord.png
END:VEVENT
END:VCALENDAR