BEGIN:VCALENDAR
VERSION:2.0
PRODID:-//KI deutschland - ECPv6.8.3//NONSGML v1.0//EN
CALSCALE:GREGORIAN
METHOD:PUBLISH
X-WR-CALNAME:KI deutschland
X-ORIGINAL-URL:https://ki-deutschland.de
X-WR-CALDESC:Veranstaltungen für KI deutschland
REFRESH-INTERVAL;VALUE=DURATION:PT1H
X-Robots-Tag:noindex
X-PUBLISHED-TTL:PT1H
BEGIN:VTIMEZONE
TZID:Europe/Berlin
BEGIN:DAYLIGHT
TZOFFSETFROM:+0100
TZOFFSETTO:+0200
TZNAME:CEST
DTSTART:20250330T010000
END:DAYLIGHT
BEGIN:STANDARD
TZOFFSETFROM:+0200
TZOFFSETTO:+0100
TZNAME:CET
DTSTART:20251026T010000
END:STANDARD
END:VTIMEZONE
BEGIN:VEVENT
DTSTART;TZID=Europe/Berlin:20250507T183000
DTEND;TZID=Europe/Berlin:20250507T220000
DTSTAMP:20260425T173239
CREATED:20250502T183035Z
LAST-MODIFIED:20250502T183721Z
UID:10000138-1746642600-1746655200@ki-deutschland.de
SUMMARY:AWS Women's User Group Munich
DESCRIPTION:AWS Women’s User Group Munich\, sponsored by Kearney Activate \n\n\n\n\n\n\n\n​We will dive deep into tips and expert insights for a production-ready AWS-based Gen AI solutions and have a candid panel on ‘Shaping the Future: Strategic Consulting at the Core of Cloud-Driven & Data-Driven Digital Transformation’ \n\n\n\n\n\n\nWebseite\n\n\n\n\n\n\n\nTickets
URL:https://ki-deutschland.de/event/aws-womens-user-group-munich-sponsored-by-kearney-activate/
LOCATION:Kearney Activate\, Sendlinger Straße 8\, München\, 80331
ATTACH;FMTTYPE=image/png:https://ki-deutschland.de/wp-content/uploads/2025/05/402ff9e791c6-kearney_Activiate_aws_wug_event_thumbnail.png
END:VEVENT
END:VCALENDAR