BEGIN:VCALENDAR
VERSION:2.0
PRODID:-//KI deutschland - ECPv6.8.3//NONSGML v1.0//EN
CALSCALE:GREGORIAN
METHOD:PUBLISH
X-WR-CALNAME:KI deutschland
X-ORIGINAL-URL:https://ki-deutschland.de
X-WR-CALDESC:Veranstaltungen für KI deutschland
REFRESH-INTERVAL;VALUE=DURATION:PT1H
X-Robots-Tag:noindex
X-PUBLISHED-TTL:PT1H
BEGIN:VTIMEZONE
TZID:Europe/Berlin
BEGIN:DAYLIGHT
TZOFFSETFROM:+0100
TZOFFSETTO:+0200
TZNAME:CEST
DTSTART:20240331T010000
END:DAYLIGHT
BEGIN:STANDARD
TZOFFSETFROM:+0200
TZOFFSETTO:+0100
TZNAME:CET
DTSTART:20241027T010000
END:STANDARD
END:VTIMEZONE
BEGIN:VEVENT
DTSTART;TZID=Europe/Berlin:20240513T180000
DTEND;TZID=Europe/Berlin:20240513T193000
DTSTAMP:20260425T125128
CREATED:20240404T080329Z
LAST-MODIFIED:20240404T080330Z
UID:10000034-1715623200-1715628600@ki-deutschland.de
SUMMARY:Einstieg in KI - Grenzenlose Möglichkeiten entdecken
DESCRIPTION:In kürzester Zeit hat ChatGPT die Welt auf den Kopf gestellt und gezeigt\, was künstliche Intelligenz heute eigentlich schon alles kann. Der Schlüssel\, um diese Technologie richtig zu verstehen\, steckt nicht nur darin zu wissen\, was künstliche Intelligenz ist – sondern vor allem auch zu wissen\, was sie nicht ist! \n\n\n\nMarvin Liedmeyer von Tobit ist seit seinem ersten Kontakt mit Künstlicher Intelligenz begeistert von den Möglichkeiten. In dem Workshop erklärt er die Hintergründe und zeigt\, wie man die Technologie für sich selbst ideal einsetzen kann. \n\n\n\nAm Ende der eineinhalbstündigen Session wissen die Teilnehmer\, wie man von einem auf den anderen Tag schneller\, effizienter und kreativer arbeiten kann. Powered by KI! \n\n\n\n\n\n\n\n\n\n\n\n\n\n\n\n\n\nTICKETS\n\n\n\n\n\n\nTicket buchen\n\n\n\n\n\n\n\n\n\n\n\n\n\n\nVERANSTALTER\n\n\n\n\n\n\n\nLOCATION\n\n\n\n\n\n\n\n\n\n\n\nSONSTIGES
URL:https://ki-deutschland.de/event/einstieg-in-ki-grenzenlose-moeglichkeiten-entdecken/
LOCATION:M4\, Tobit.Town\, Parallelstraße 41\, Ahaus
ATTACH;FMTTYPE=image/jpeg:https://ki-deutschland.de/wp-content/uploads/2024/03/0a11251840a4-Einstieg_in_KI___Marvin__2_.jpg
END:VEVENT
END:VCALENDAR