BEGIN:VCALENDAR
VERSION:2.0
PRODID:-//KI deutschland - ECPv6.8.3//NONSGML v1.0//EN
CALSCALE:GREGORIAN
METHOD:PUBLISH
X-WR-CALNAME:KI deutschland
X-ORIGINAL-URL:https://ki-deutschland.de
X-WR-CALDESC:Veranstaltungen für KI deutschland
REFRESH-INTERVAL;VALUE=DURATION:PT1H
X-Robots-Tag:noindex
X-PUBLISHED-TTL:PT1H
BEGIN:VTIMEZONE
TZID:Europe/Berlin
BEGIN:DAYLIGHT
TZOFFSETFROM:+0100
TZOFFSETTO:+0200
TZNAME:CEST
DTSTART:20260329T010000
END:DAYLIGHT
BEGIN:STANDARD
TZOFFSETFROM:+0200
TZOFFSETTO:+0100
TZNAME:CET
DTSTART:20261025T010000
END:STANDARD
END:VTIMEZONE
BEGIN:VEVENT
DTSTART;TZID=Europe/Berlin:20260513T100000
DTEND;TZID=Europe/Berlin:20260513T180000
DTSTAMP:20260423T005318
CREATED:20260422T175629Z
LAST-MODIFIED:20260422T180148Z
UID:10000171-1778666400-1778695200@ki-deutschland.de
SUMMARY:DIGITAL X Südwest
DESCRIPTION:Konferenz \n\n\n\n\n\n\n\n\n\nDie DIGITAL X Südwest findet am 13. Mai 2026 in der PreZero Arena in Sinsheim statt und bringt Unternehmen\, Entscheider:innen und Digitalexpert:innen aus der Region zusammen.  \n\n\n\nIm Mittelpunkt stehen inspirierende Keynotes\, praxisorientierte Masterclasses zu Cloud\, Netzen\, Security und KI sowie intensives Networking.  \n\n\n\nEin besonderes Highlight ist das Interview mit Oliver Baumann\, Torhüter der TSG Hoffenheim und deutscher Nationalspieler.  \n\n\n\nAuf dem Partnermarktplatz präsentieren Unternehmen wie Samsung\, Microsoft und die Sparkasse innovative Lösungen.  \n\n\n\nDie Telekom T Homebase zeigt ganzheitliche digitale Zukunftskonzepte\, während der Digital Playground mit interaktiven Technologien\, Stadion-Erlebnissen und immersiven Tech-Demos Digitalisierung spürbar macht. \n\n\n\n\n\n\n\n\n\n\nTickets\n\n\n\n\n\n\n\n\n\nWebseite\n\n\n\n\n\n\n\n\n\n\nMehr Informationen https://www.digital-x.com/de/events/2026/regionale-events/suedwest
URL:https://ki-deutschland.de/event/digital-x-suedwest/
LOCATION:PreZero Arena Sinsheim\, Dietmar-Hopp-Straße 1\, Sinsheim\, 74889
ATTACH;FMTTYPE=image/jpeg:https://ki-deutschland.de/wp-content/uploads/2026/04/digital_x_logo.jpg
END:VEVENT
END:VCALENDAR