BEGIN:VCALENDAR
VERSION:2.0
PRODID:-//KI deutschland - ECPv6.8.3//NONSGML v1.0//EN
CALSCALE:GREGORIAN
METHOD:PUBLISH
X-ORIGINAL-URL:https://ki-deutschland.de
X-WR-CALDESC:Veranstaltungen für KI deutschland
REFRESH-INTERVAL;VALUE=DURATION:PT1H
X-Robots-Tag:noindex
X-PUBLISHED-TTL:PT1H
BEGIN:VTIMEZONE
TZID:Europe/Berlin
BEGIN:DAYLIGHT
TZOFFSETFROM:+0100
TZOFFSETTO:+0200
TZNAME:CEST
DTSTART:20240331T010000
END:DAYLIGHT
BEGIN:STANDARD
TZOFFSETFROM:+0200
TZOFFSETTO:+0100
TZNAME:CET
DTSTART:20241027T010000
END:STANDARD
END:VTIMEZONE
BEGIN:VEVENT
DTSTART;TZID=Europe/Berlin:20240514T183000
DTEND;TZID=Europe/Berlin:20240514T210000
DTSTAMP:20260421T190011
CREATED:20240416T165258Z
LAST-MODIFIED:20240417T073313Z
UID:10000052-1715711400-1715720400@ki-deutschland.de
SUMMARY:Trilligent Tech Talks Berlin
DESCRIPTION:Trilligent is hosting its first Tech Talk to delve into discussions on the EU AI Act and its implications for established companies and startups. Hosted by Anna Schiller (Trilligent)\, the panel includes Prof. Dr. Fabrizio Palmas (Straightlabs)\, Siyanna Lilova (CuratedAI)\, and Lusine Petrosyan (Trilligent)\, who will share their insights on AI\, policy\, and innovation. \n\n\n\nPanel and Networking Event \n\n\n\n\n\n\n\n\n\n\n\n\n\n\n\n\n\n\n\n\n\nTICKETS\n\n\n\n\n\n\nTicket buchen\n\n\n\n\n\n\n\n\n\n\n\n\n\n\nVERANSTALTER\n\n\n\n\n\n\n\nLOCATION\n\n\n\n\n\n\n\n\n\n\n\nSONSTIGES
URL:https://ki-deutschland.de/event/trilligent-tech-talks-berlin/
LOCATION:Techspace Kreuzberg\, Lobeckstraße 36-40\, Berlin\, 10969
ATTACH;FMTTYPE=image/png:https://ki-deutschland.de/wp-content/uploads/2024/04/e0abc0706f79-Image.png
END:VEVENT
END:VCALENDAR