BEGIN:VCALENDAR
VERSION:2.0
PRODID:-//KI deutschland - ECPv6.8.3//NONSGML v1.0//EN
CALSCALE:GREGORIAN
METHOD:PUBLISH
X-ORIGINAL-URL:https://ki-deutschland.de
X-WR-CALDESC:Veranstaltungen für KI deutschland
REFRESH-INTERVAL;VALUE=DURATION:PT1H
X-Robots-Tag:noindex
X-PUBLISHED-TTL:PT1H
BEGIN:VTIMEZONE
TZID:Europe/Berlin
BEGIN:DAYLIGHT
TZOFFSETFROM:+0100
TZOFFSETTO:+0200
TZNAME:CEST
DTSTART:20240331T010000
END:DAYLIGHT
BEGIN:STANDARD
TZOFFSETFROM:+0200
TZOFFSETTO:+0100
TZNAME:CET
DTSTART:20241027T010000
END:STANDARD
END:VTIMEZONE
BEGIN:VEVENT
DTSTART;TZID=Europe/Berlin:20240523T100000
DTEND;TZID=Europe/Berlin:20240523T113000
DTSTAMP:20260423T080518
CREATED:20240301T083240Z
LAST-MODIFIED:20240307T191919Z
UID:10000017-1716458400-1716463800@ki-deutschland.de
SUMMARY:Online-Workshop "Fair AI-Prompting"
DESCRIPTION:Online-Workshop “Fair AI-Prompting” \n\n\n\n\n\nAm 23. Mai von 10:00 bis 11:30 Uhr veranstaltet das Mittelstand-Digital Zentrum Zukunftskultur einen Online-Workshop zum Thema “Fair AI-Prompting” unter der Leitung der Forscherin Eva Gengler\, Co-Founder von feminist-AI. Der Workshop bietet Einblicke in faire Prompting-Praktiken und umfasst eine Austauschrunde sowie eine praktische Übung\, moderiert von KI-Trainerin Kristina Bodrožić-Brnić. Zudem wird unser Guide zum Fairen AI-Prompting vorgestellt\, ein neues Werkzeug für ethisch verantwortungsvolle KI-Anwendungen. Der Workshop richtet sich an alle\, die sich für ethische KI-Praktiken im Bereich generativer KI interessieren und praktische Erfahrungen sammeln möchten\, um einen besseren Umgang im eigenen Unternehmen zu ermöglichen. \n\n\n\nZoom: https://us02web.zoom.us/j/9998338988 \n\n\n\n\n\n\n\n\n\n\n\n\n\n\n\n\n\n\n\nTICKETS\n\n\n\n\n\n\n\n\n\n\n\n\n\n\n\nVERANSTALTER\n\n\n\n\n\n\n\nLOCATION\n\n\n\nVirtuell / Online \n\n\n\n\n\n\n\n\n\nSONSTIGES
URL:https://ki-deutschland.de/event/online-workshop-fair-ai-prompting/
LOCATION:Virtuell
END:VEVENT
BEGIN:VEVENT
DTSTART;TZID=Europe/Berlin:20240514T100000
DTEND;TZID=Europe/Berlin:20240514T110000
DTSTAMP:20260423T080518
CREATED:20240301T083825Z
LAST-MODIFIED:20240411T180803Z
UID:10000018-1715680800-1715684400@ki-deutschland.de
SUMMARY:Webinar Automatisiertes maschinelles Lernen für schnelle Proofs of Concept
DESCRIPTION:Automatisiertes maschinelles Lernen (AutoML) beschreibt den Prozess der Automatisierung von zeitaufwändigen\, iterativen Aufgaben bei der Entwicklung einer Machine Learning Pipeline. AutoML beschleunigt und vereinfacht nicht nur den Machine Learning Workflow\, sondern ermöglicht auch Nutzer:innen ohne spezifische ML-Kenntnisse einen Zugang zum maschinellen Lernen. In diesem Webinar wird anhand konkreter Beispiele gezeigt\, wie Interessierte mithilfe von AutoML Proofs of Concept schnell und ohne explizites Expertenwissen durchführen können.​ \n\n\n\n\n\n\n\n\n\n\n\n\n\n\n\n\n\n\n\nTICKETS\n\n\n\n\n\n\n\n\n\n\n\n\n\n\n\n\n\n\n\nVERANSTALTER\n\n\n\n\n\n\n\nLOCATION\n\n\n\n\n\n\n\n\n\n\n\nSONSTIGES
URL:https://ki-deutschland.de/event/webinar-automatisiertes-maschinelles-lernen-fuer-schnelle-proofs-of-concept/
LOCATION:Virtuell
ATTACH;FMTTYPE=image/png:https://ki-deutschland.de/wp-content/uploads/2024/03/Rise-of-AI-Conference-2024-Learn-understand-adapt-AI-V1_Verlauf-1.png
END:VEVENT
END:VCALENDAR